FILENAME: 37121B43
QUADRANGLE_NAME: MISSISSIPPI CREEK
QUADRANT: SE
WEST_LONGITUDE: -121 26 15.00000
EAST_LONGITUDE: -121 22 30.00000
NORTH_LATITUDE: 37 11 15.00000
SOUTH_LATITUDE: 37 7 30.00000
PRODUCTION_DATE: 2001 11 15
RASTER_ORDER: LEFT_RIGHT/TOP_BOTTOM
BAND_ORGANIZATION: SINGLE FILE
BAND_CONTENT: BLACK&WHITE
BAND_CONTENT: UNDEFINED
BAND_CONTENT: UNDEFINED
BITS_PER_PIXEL: 8
SAMPLES_AND_LINES: 6390 7680
HORIZONTAL_DATUM: NAD83
HORIZONTAL_COORDINATE_SYSTEM: UTM
COORDINATE_ZONE: 10
HORIZONTAL_UNITS: METERS
HORIZONTAL_RESOLUTION: 1.00000
SECONDARY_HORIZONTAL_DATUM: NAD27
XY_ORIGIN: 638280.00000 4117230.00000
SECONDARY_XY_ORIGIN: 638376.36600 4117034.44100
NATION: US
STATE: CA
NW_QUAD_CORNER_XY: 638687.66500 4116815.85100
NE_QUAD_CORNER_XY: 644235.56900 4116909.15100
SE_QUAD_CORNERY_XY: 644354.38600 4109974.87900
SW_QUAD_CORNER_XY: 638801.90900 4109881.63600
SECONDARY_NW_QUAD_XY: 638691.06100 4116612.21600
SECONDARY_NE_QUAD_XY: 644239.10100 4116705.51800
SECONDARY_SE_QUAD_XY: 644357.91500 4109771.40600
SECONDARY_SW_QUAD_XY: 638805.30300 4109678.16100
RMSE_XY: 2.52000
IMAGE_SOURCE: BLACK AND WHITE FILM
SOURCE_IMAGE_ID: NAPP 10523 178
SOURCE_IMAGE_DATE: 1998 08 18
SOURCE_IMAGE_ID: NAPP 10523 180
SOURCE_IMAGE_DATE: 1998 08 18
SOURCE_IMAGE_ID: NAPP 10523 176
SOURCE_IMAGE_DATE: 1998 08 18
SOURCE_IMAGE_ID: NAPP 10523 193
SOURCE_IMAGE_DATE: 1998 08 18
SOURCE_DEM_DATE: 1955 00 00
AGENCY: WESTERN MAPPING CENTER (WMC)
PRODUCER: SANBORN COLORADO, L.L.C.
PRODUCTION_SYSTEM: ORBIT OR_RECTIFY V.5.2
COMPRESSION: UNDEFINED
STANDARD_VERSION: 1996 12
METADATA_DATE: 2001 11 27
DATA_FILE_SIZE: 49081590
BYTE_COUNT: 6390
