FILENAME: 37121B61
QUADRANGLE_NAME: MORGAN HILL
QUADRANT: NW
WEST_LONGITUDE: -121 45 0.00000
EAST_LONGITUDE: -121 41 15.00000
NORTH_LATITUDE: 37 15 0.00000
SOUTH_LATITUDE: 37 11 15.00000
PRODUCTION_DATE: 2001 11 13
RASTER_ORDER: LEFT_RIGHT/TOP_BOTTOM
BAND_ORGANIZATION: SINGLE FILE
BAND_CONTENT: BLACK&WHITE
BAND_CONTENT: UNDEFINED
BAND_CONTENT: UNDEFINED
BITS_PER_PIXEL: 8
SAMPLES_AND_LINES: 6360 7650
HORIZONTAL_DATUM: NAD83
HORIZONTAL_COORDINATE_SYSTEM: UTM
COORDINATE_ZONE: 10
HORIZONTAL_UNITS: METERS
HORIZONTAL_RESOLUTION: 1.00000
SECONDARY_HORIZONTAL_DATUM: NAD27
XY_ORIGIN: 610440.00000 4123740.00000
SECONDARY_XY_ORIGIN: 610536.66400 4123543.70200
NATION: US
STATE: CA
NW_QUAD_CORNER_XY: 610857.27000 4123338.29600
NE_QUAD_CORNER_XY: 616400.38900 4123413.33900
SE_QUAD_CORNERY_XY: 616496.48300 4116479.26100
SW_QUAD_CORNER_XY: 610948.78600 4116404.26500
SECONDARY_NW_QUAD_XY: 610859.98900 4123134.49100
SECONDARY_NE_QUAD_XY: 616403.24400 4123209.53500
SECONDARY_SE_QUAD_XY: 616499.33500 4116275.61700
SECONDARY_SW_QUAD_XY: 610951.50300 4116200.61900
RMSE_XY: 3.04000
IMAGE_SOURCE: BLACK AND WHITE FILM
SOURCE_IMAGE_ID: NAPP 10526 75
SOURCE_IMAGE_DATE: 1998 08 22
SOURCE_IMAGE_ID: NAPP 10526 73
SOURCE_IMAGE_DATE: 1998 08 22
SOURCE_DEM_DATE: 1955 00 00
AGENCY: WESTERN MAPPING CENTER (WMC)
PRODUCER: SANBORN COLORADO, L.L.C.
PRODUCTION_SYSTEM: ORBIT OR_RECTIFY V.5.2
COMPRESSION: UNDEFINED
STANDARD_VERSION: 1996 12
METADATA_DATE: 2001 11 19
DATA_FILE_SIZE: 48660360
BYTE_COUNT: 6360
