FILENAME: 37121C12
QUADRANGLE_NAME: NEWMAN
QUADRANT: NE
WEST_LONGITUDE: -121 3 45.00000
EAST_LONGITUDE: -121 0 0.00000
NORTH_LATITUDE: 37 22 30.00000
SOUTH_LATITUDE: 37 18 45.00000
PRODUCTION_DATE: 2001 11 29
RASTER_ORDER: LEFT_RIGHT/TOP_BOTTOM
BAND_ORGANIZATION: SINGLE FILE
BAND_CONTENT: BLACK&WHITE
BAND_CONTENT: UNDEFINED
BAND_CONTENT: UNDEFINED
BITS_PER_PIXEL: 8
SAMPLES_AND_LINES: 6420 7710
HORIZONTAL_DATUM: NAD83
HORIZONTAL_COORDINATE_SYSTEM: UTM
COORDINATE_ZONE: 10
HORIZONTAL_UNITS: METERS
HORIZONTAL_RESOLUTION: 1.00000
SECONDARY_HORIZONTAL_DATUM: NAD27
XY_ORIGIN: 671130.00000 4138680.00000
SECONDARY_XY_ORIGIN: 671226.29400 4138484.89500
NATION: US
STATE: CA
NW_QUAD_CORNER_XY: 671549.52200 4138234.75300
NE_QUAD_CORNER_XY: 677083.96500 4138350.23700
SE_QUAD_CORNERY_XY: 677230.86500 4131415.38000
SW_QUAD_CORNER_XY: 671691.82600 4131299.96400
SECONDARY_NW_QUAD_XY: 671553.74300 4138030.65600
SECONDARY_NE_QUAD_XY: 677088.32200 4138146.14300
SECONDARY_SE_QUAD_XY: 677235.21900 4131211.44400
SECONDARY_SW_QUAD_XY: 671696.04400 4131096.02600
RMSE_XY: 0.76000
IMAGE_SOURCE: BLACK AND WHITE FILM
SOURCE_IMAGE_ID: NAPP 10521 28
SOURCE_IMAGE_DATE: 1998 08 16
SOURCE_IMAGE_ID: NAPP 10544 11
SOURCE_IMAGE_DATE: 1999 08 02
SOURCE_DEM_DATE: 1971 00 00
AGENCY: WESTERN MAPPING CENTER (WMC)
PRODUCER: SANBORN COLORADO, L.L.C.
PRODUCTION_SYSTEM: ORBIT OR_RECTIFY V.5.2
COMPRESSION: UNDEFINED
STANDARD_VERSION: 1996 12
METADATA_DATE: 2001 12 07
DATA_FILE_SIZE: 49504620
BYTE_COUNT: 6420
