FILENAME: 37121C11
QUADRANGLE_NAME: NEWMAN
QUADRANT: NW
WEST_LONGITUDE: -121 7 30.00000
EAST_LONGITUDE: -121 3 45.00000
NORTH_LATITUDE: 37 22 30.00000
SOUTH_LATITUDE: 37 18 45.00000
PRODUCTION_DATE: 2001 11 29
RASTER_ORDER: LEFT_RIGHT/TOP_BOTTOM
BAND_ORGANIZATION: SINGLE FILE
BAND_CONTENT: BLACK&WHITE
BAND_CONTENT: UNDEFINED
BAND_CONTENT: UNDEFINED
BITS_PER_PIXEL: 8
SAMPLES_AND_LINES: 6390 7710
HORIZONTAL_DATUM: NAD83
HORIZONTAL_COORDINATE_SYSTEM: UTM
COORDINATE_ZONE: 10
HORIZONTAL_UNITS: METERS
HORIZONTAL_RESOLUTION: 1.00000
SECONDARY_HORIZONTAL_DATUM: NAD27
XY_ORIGIN: 665610.00000 4138560.00000
SECONDARY_XY_ORIGIN: 665706.28100 4138364.88200
NATION: US
STATE: CA
NW_QUAD_CORNER_XY: 666015.13300 4138122.93800
NE_QUAD_CORNER_XY: 671549.52200 4138234.75300
SE_QUAD_CORNERY_XY: 671691.82600 4131299.96400
SW_QUAD_CORNER_XY: 666152.84200 4131188.21700
SECONDARY_NW_QUAD_XY: 666019.21800 4137918.83900
SECONDARY_NE_QUAD_XY: 671553.74300 4138030.65600
SECONDARY_SE_QUAD_XY: 671696.04400 4131096.02600
SECONDARY_SW_QUAD_XY: 666156.92400 4130984.27500
RMSE_XY: 1.07000
IMAGE_SOURCE: BLACK AND WHITE FILM
SOURCE_IMAGE_ID: NAPP 10521 167
SOURCE_IMAGE_DATE: 1998 08 16
SOURCE_IMAGE_ID: NAPP 10542 113
SOURCE_IMAGE_DATE: 1999 07 29
SOURCE_DEM_DATE: 1971 00 00
AGENCY: WESTERN MAPPING CENTER (WMC)
PRODUCER: SANBORN COLORADO, L.L.C.
PRODUCTION_SYSTEM: ORBIT OR_RECTIFY V.5.2
COMPRESSION: UNDEFINED
STANDARD_VERSION: 1996 12
METADATA_DATE: 2002 01 04
DATA_FILE_SIZE: 49273290
BYTE_COUNT: 6390
