FILENAME: 37121C21
QUADRANGLE_NAME: ORESTIMBA PEAK
QUADRANT: NW
WEST_LONGITUDE: -121 15 0.00000
EAST_LONGITUDE: -121 11 15.00000
NORTH_LATITUDE: 37 22 30.00000
SOUTH_LATITUDE: 37 18 45.00000
PRODUCTION_DATE: 2001 11 29
RASTER_ORDER: LEFT_RIGHT/TOP_BOTTOM
BAND_ORGANIZATION: SINGLE FILE
BAND_CONTENT: BLACK&WHITE
BAND_CONTENT: UNDEFINED
BAND_CONTENT: UNDEFINED
BITS_PER_PIXEL: 8
SAMPLES_AND_LINES: 6390 7680
HORIZONTAL_DATUM: NAD83
HORIZONTAL_COORDINATE_SYSTEM: UTM
COORDINATE_ZONE: 10
HORIZONTAL_UNITS: METERS
HORIZONTAL_RESOLUTION: 1.00000
SECONDARY_HORIZONTAL_DATUM: NAD27
XY_ORIGIN: 654540.00000 4138320.00000
SECONDARY_XY_ORIGIN: 654636.25600 4138124.85500
NATION: US
STATE: CA
NW_QUAD_CORNER_XY: 654946.51100 4137910.31800
NE_QUAD_CORNER_XY: 660480.79700 4138014.79300
SE_QUAD_CORNERY_XY: 660613.91100 4131080.13700
SW_QUAD_CORNER_XY: 655075.03200 4130975.72400
SECONDARY_NW_QUAD_XY: 654950.32400 4137706.21300
SECONDARY_NE_QUAD_XY: 660484.74600 4137810.69100
SECONDARY_SE_QUAD_XY: 660617.85700 4130876.19300
SECONDARY_SW_QUAD_XY: 655078.84100 4130771.77700
RMSE_XY: 1.79000
IMAGE_SOURCE: BLACK AND WHITE FILM
SOURCE_IMAGE_ID: NAPP 10522 70
SOURCE_IMAGE_DATE: 1998 08 16
SOURCE_IMAGE_ID: NAPP 10522 68
SOURCE_IMAGE_DATE: 1998 08 16
SOURCE_IMAGE_ID: NAPP 10521 222
SOURCE_IMAGE_DATE: 1998 08 16
SOURCE_IMAGE_ID: NAPP 10522 72
SOURCE_IMAGE_DATE: 1998 08 16
SOURCE_IMAGE_ID: NAPP 10522 167
SOURCE_IMAGE_DATE: 1998 08 17
SOURCE_DEM_DATE: 1971 00 00
AGENCY: WESTERN MAPPING CENTER (WMC)
PRODUCER: SANBORN COLORADO, L.L.C.
PRODUCTION_SYSTEM: ORBIT OR_RECTIFY V.5.2
COMPRESSION: UNDEFINED
STANDARD_VERSION: 1996 12
METADATA_DATE: 2001 12 06
DATA_FILE_SIZE: 49081590
BYTE_COUNT: 6390
