FILENAME: 37121C42
QUADRANGLE_NAME: MOUNT STAKES
QUADRANT: NE
WEST_LONGITUDE: -121 26 15.00000
EAST_LONGITUDE: -121 22 30.00000
NORTH_LATITUDE: 37 22 30.00000
SOUTH_LATITUDE: 37 18 45.00000
PRODUCTION_DATE: 2001 11 19
RASTER_ORDER: LEFT_RIGHT/TOP_BOTTOM
BAND_ORGANIZATION: SINGLE FILE
BAND_CONTENT: BLACK&WHITE
BAND_CONTENT: UNDEFINED
BAND_CONTENT: UNDEFINED
BITS_PER_PIXEL: 8
SAMPLES_AND_LINES: 6360 7650
HORIZONTAL_DATUM: NAD83
HORIZONTAL_COORDINATE_SYSTEM: UTM
COORDINATE_ZONE: 10
HORIZONTAL_UNITS: METERS
HORIZONTAL_RESOLUTION: 1.00000
SECONDARY_HORIZONTAL_DATUM: NAD27
XY_ORIGIN: 637950.00000 4138020.00000
SECONDARY_XY_ORIGIN: 638046.30200 4137824.54100
NATION: US
STATE: CA
NW_QUAD_CORNER_XY: 638343.94100 4137618.90400
NE_QUAD_CORNER_XY: 643878.08500 4137712.37300
SE_QUAD_CORNERY_XY: 643997.41800 4130777.89800
SW_QUAD_CORNER_XY: 638458.68100 4130684.48500
SECONDARY_NW_QUAD_XY: 638347.34500 4137414.79200
SECONDARY_NE_QUAD_XY: 643881.62500 4137508.26400
SECONDARY_SE_QUAD_XY: 644000.95500 4130573.94700
SECONDARY_SW_QUAD_XY: 638462.08200 4130480.53100
RMSE_XY: 2.01000
IMAGE_SOURCE: BLACK AND WHITE FILM
SOURCE_IMAGE_ID: NAPP 10523 172
SOURCE_IMAGE_DATE: 1998 08 18
SOURCE_IMAGE_ID: NAPP 10523 174
SOURCE_IMAGE_DATE: 1998 08 18
SOURCE_IMAGE_ID: NAPP 10523 199
SOURCE_IMAGE_DATE: 1998 08 18
SOURCE_IMAGE_ID: NAPP 10523 170
SOURCE_IMAGE_DATE: 1998 08 18
SOURCE_DEM_DATE: 1955 00 00
AGENCY: WESTERN MAPPING CENTER (WMC)
PRODUCER: SANBORN COLORADO, L.L.C.
PRODUCTION_SYSTEM: ORBIT OR_RECTIFY V.5.2
COMPRESSION: UNDEFINED
STANDARD_VERSION: 1996 12
METADATA_DATE: 2001 11 27
DATA_FILE_SIZE: 48660360
BYTE_COUNT: 6360
