FILENAME: 37121C51
QUADRANGLE_NAME: ISABEL VALLEY
QUADRANT: NW
WEST_LONGITUDE: -121 37 30.00000
EAST_LONGITUDE: -121 33 45.00000
NORTH_LATITUDE: 37 22 30.00000
SOUTH_LATITUDE: 37 18 45.00000
PRODUCTION_DATE: 2001 11 01
RASTER_ORDER: LEFT_RIGHT/TOP_BOTTOM
BAND_ORGANIZATION: SINGLE FILE
BAND_CONTENT: BLACK&WHITE
BAND_CONTENT: UNDEFINED
BAND_CONTENT: UNDEFINED
BITS_PER_PIXEL: 8
SAMPLES_AND_LINES: 6360 7650
HORIZONTAL_DATUM: NAD83
HORIZONTAL_COORDINATE_SYSTEM: UTM
COORDINATE_ZONE: 10
HORIZONTAL_UNITS: METERS
HORIZONTAL_RESOLUTION: 1.00000
SECONDARY_HORIZONTAL_DATUM: NAD27
XY_ORIGIN: 621330.00000 4137750.00000
SECONDARY_XY_ORIGIN: 621426.48500 4137554.14100
NATION: US
STATE: CA
NW_QUAD_CORNER_XY: 621741.76400 4137360.50200
NE_QUAD_CORNER_XY: 627275.78200 4137442.96800
SE_QUAD_CORNERY_XY: 627381.33700 4130508.65500
SW_QUAD_CORNER_XY: 621842.72700 4130426.23800
SECONDARY_NW_QUAD_XY: 621744.75900 4137156.38300
SECONDARY_NE_QUAD_XY: 627278.91400 4137238.85200
SECONDARY_SE_QUAD_XY: 627384.46600 4130304.69700
SECONDARY_SW_QUAD_XY: 621845.72000 4130222.27700
RMSE_XY: 3.65000
IMAGE_SOURCE: BLACK AND WHITE FILM
SOURCE_IMAGE_ID: NAPP 10524 70
SOURCE_IMAGE_DATE: 1998 08 18
SOURCE_IMAGE_ID: NAPP 10524 72
SOURCE_IMAGE_DATE: 1998 08 18
SOURCE_IMAGE_ID: NAPP 10525 70
SOURCE_IMAGE_DATE: 1998 08 21
SOURCE_DEM_DATE: 1955 00 00
AGENCY: WESTERN MAPPING CENTER (WMC)
PRODUCER: SANBORN COLORADO, L.L.C.
PRODUCTION_SYSTEM: ORBIT OR_RECTIFY V.5.2
COMPRESSION: UNDEFINED
STANDARD_VERSION: 1996 12
METADATA_DATE: 2001 11 09
DATA_FILE_SIZE: 48660360
BYTE_COUNT: 6360
