BEGIN_USGS_DOQ_HEADER *
QUADRANGLE_NAME "SAN JOSE WEST" 3.45 or 7.5-min. name*
QUADRANT SW quadrant indicator if cell size = 3.75-minutes*
WEST_LONGITUDE -122 0 0.000 signed deg min sec SDDD MM SS.SSS*
EAST_LONGITUDE -121 56 15.000 signed deg min sec SDDD MM SS.SSS*
NORTH_LATITUDE 37 18 45.000 signed deg min sec SDDD MM SS.SSS*
SOUTH_LATITUDE 37 15 0.000 signed deg min sec SDDD MM SS.SSS*
PRODUCTION_DATE 1998 8 6 yyyy mm dd*
RASTER_ORDER LEFT_RIGHT/TOP_BOTTOM video display order*
BAND_ORGANIZATION "SINGLE FILE" single file or BSQ, or BIL or BIP*
BAND_CONTENT BLACK&WHITE black&white or red green blue*
BITS_PER_PIXEL 8 radiometric resolution*
SAMPLES_AND_LINES 6314 7605 number of columns and rows*
HORIZONTAL_DATUM NAD83 primary horizontal datum*
HORIZONTAL_COORDINATE_SYSTEM UTM *
COORDINATE_ZONE 10 coordinate system zone number*
HORIZONTAL_UNITS METERS coordinate system units*
HORIZONTAL_RESOLUTION 1.00 pixel horiz. ground sample distance*
SECONDARY_HORIZONTAL_DATUM NAD27 secondary horizontal datum*
XY_ORIGIN 588216.000 4130370.000 coord. of upper left pixel pri. datum*
SECONDARY_XY_ORIGIN 588312.933 4130173.413 coord upper left pixel sec datum*
NATION US nation code*
STATE CA state fip code*
NW_QUAD_CORNER_XY 588611.820 4130008.690 XY coords. of pri. NW quad corner*
NE_QUAD_CORNER_XY 594150.224 4130069.121 XY coords. of pri. NE quad corner*
SE_QUAD_CORNER_XY 594228.120 4123135.142 XY coords. of pri. SE quad corner*
SW_QUAD_CORNER_XY 588685.133 4123074.748 XY coords. of pri. SW quad corner*
SECONDARY_NW_QUAD_XY 588613.996 4129804.719 XY coords. - sec. NW quad cor.*
SECONDARY_NE_QUAD_XY 594152.536 4129865.152 XY coords. - sec. NE quad cor.*
SECONDARY_SE_QUAD_XY 594230.431 4122931.332 XY coords. - sec. SE quad cor.*
SECONDARY_SW_QUAD_XY 588687.307 4122870.936 XY coords. - sec. SW quad cor.*
RMSE_XY 0.90 doq horiz. accuracy*
IMAGE_SOURCE "BLACK AND WHITE FILM" b&w, cir, natural color, other*
SOURCE_IMAGE_ID "NAPP 6355 034" source image id*
SOURCE_IMAGE_DATE 1993 06 14 source image date as yyyy mm dd*
SOURCE_DEM_DATE 1961 00 00 source dem date yyyy mm dd*
AGENCY "WESTERN MAPPING CENTER (WMC)" oversight agency*
PRODUCER "SCIENCE APPLICATIONS INTERNATIONAL" producer/contractor*
PRODUCTION_SYSTEM "GIS/MAGIC" production system*
STANDARD_VERSION 1996 12 version of DOQ standard*
METADATA_DATE 1998 08 21 date created or changed, yyyy mm dd*
DATA_FILE_SIZE 48024284 data set size in bytes*
BYTE_COUNT 6314 header byte count* * * * * * * * * * * * * * * * * * * * * * * * * * * * * * * * * * * *
END_USGS_HEADER *
