BEGIN_USGS_DOQ_HEADER *
QUADRANGLE_NAME "MOUNT BOARDMAN" 3.45 or 7.5-min. name*
QUADRANT NE quadrant indicator if cell size = 3.75-minutes*
WEST_LONGITUDE -121 26 15.000 signed deg min sec SDDD MM SS.SSS*
EAST_LONGITUDE -121 22 30.000 signed deg min sec SDDD MM SS.SSS*
NORTH_LATITUDE 37 30 0.000 signed deg min sec SDDD MM SS.SSS*
SOUTH_LATITUDE 37 26 15.000 signed deg min sec SDDD MM SS.SSS*
PRODUCTION_DATE 1996 5 15 yyyy mm dd*
RASTER_ORDER LEFT_RIGHT/TOP_BOTTOM video display order*
BAND_ORGANIZATION "SINGLE FILE" single file or BSQ, or BIL or BIP*
BAND_CONTENT BLACK&WHITE black&white or red green blue*
BITS_PER_PIXEL 8 radiometric resolution*
SAMPLES_AND_LINES 6348 7648 number of columns and rows*
HORIZONTAL_DATUM NAD83 primary horizontal datum*
HORIZONTAL_COORDINATE_SYSTEM UTM *
COORDINATE_ZONE 10 coordinate system zone number*
HORIZONTAL_UNITS METERS coordinate system units*
HORIZONTAL_RESOLUTION 1.00 pixel horiz. ground sample distance*
SECONDARY_HORIZONTAL_DATUM NAD27 secondary horizontal datum*
XY_ORIGIN 637716.500 4151886.500 coord. of upper left pixel pri. datum*
SECONDARY_XY_ORIGIN 637812.759 4151691.076 coord upper left pixel sec datum*
NATION US nation code*
STATE CA state fip code*
NW_QUAD_CORNER_XY 638113.966 4151487.946 XY coords. of pri. NW quad corner*
NE_QUAD_CORNER_XY 643638.904 4151581.526 XY coords. of pri. NE quad corner*
SE_QUAD_CORNER_XY 643758.580 4144646.916 XY coords. of pri. SE quad corner*
SW_QUAD_CORNER_XY 638229.036 4144553.391 XY coords. of pri. SW quad corner*
SECONDARY_NW_QUAD_XY 638117.375 4151283.520 XY coords. - sec. NW quad cor.*
SECONDARY_NE_QUAD_XY 643642.449 4151377.103 XY coords. - sec. NE quad cor.*
SECONDARY_SE_QUAD_XY 643762.123 4144442.649 XY coords. - sec. SE quad cor.*
SECONDARY_SW_QUAD_XY 638232.442 4144349.121 XY coords. - sec. SW quad cor.*
RMSE_XY 5.30 doq horiz. accuracy*
IMAGE_SOURCE "BLACK AND WHITE FILM" b&w, cir, natural color, other*
SOURCE_IMAGE_ID "PAPP 3353 232" source image id*
SOURCE_IMAGE_DATE 1993 5 23 source image date as yyyy mm dd*
IMAGE_SOURCE "BLACK AND WHITE FILM" b&w, cir, natural color, other*
SOURCE_IMAGE_ID "PAPP 3353 131" source image id*
SOURCE_IMAGE_DATE 1993 5 23 source image date as yyyy mm dd*
IMAGE_SOURCE "BLACK AND WHITE FILM" b&w, cir, natural color, other*
SOURCE_IMAGE_ID "PAPP 3353 333" source image id*
SOURCE_IMAGE_DATE 1993 5 23 source image date as yyyy mm dd*
SOURCE_DEM_DATE 1996 5 15 source dem date yyyy mm dd*
AGENCY "WESTERN MAPPING CENTER (WMC)" oversight agency*
PRODUCER "Woolpert Consultants" producer/contractor*
PRODUCTION_SYSTEM "INTERGRAPH ISPM,ISIR" production system*
STANDARD_VERSION 1996 12 version of DOQ standard*
METADATA_DATE 1997 6 4 date created or changed, yyyy mm dd*
DATA_FILE_SIZE 48555852 data set size in bytes*
BYTE_COUNT 6348 header byte count* * * * * * * * * * * * * * * * * * * * * * * * * * * * * * *
END_USGS_HEADER *
