FILENAME: 37121E12
QUADRANGLE_NAME: BRUSH LAKE
QUADRANT: NE
WEST_LONGITUDE: -121 3 45.00000
EAST_LONGITUDE: -121 0 0.00000
NORTH_LATITUDE: 37 37 30.00000
SOUTH_LATITUDE: 37 33 45.00000
PRODUCTION_DATE: 2001 11 29
RASTER_ORDER: LEFT_RIGHT/TOP_BOTTOM
BAND_ORGANIZATION: SINGLE FILE
BAND_CONTENT: BLACK&WHITE
BAND_CONTENT: UNDEFINED
BAND_CONTENT: UNDEFINED
BITS_PER_PIXEL: 8
SAMPLES_AND_LINES: 6390 7680
HORIZONTAL_DATUM: NAD83
HORIZONTAL_COORDINATE_SYSTEM: UTM
COORDINATE_ZONE: 10
HORIZONTAL_UNITS: METERS
HORIZONTAL_RESOLUTION: 1.00000
SECONDARY_HORIZONTAL_DATUM: NAD27
XY_ORIGIN: 670560.00000 4166400.00000
SECONDARY_XY_ORIGIN: 670656.40600 4166204.88100
NATION: US
STATE: CA
NW_QUAD_CORNER_XY: 670978.25900 4165974.55700
NE_QUAD_CORNER_XY: 676494.25300 4166090.31300
SE_QUAD_CORNERY_XY: 676641.99700 4159155.19700
SW_QUAD_CORNER_XY: 671121.38100 4159039.50800
SECONDARY_NW_QUAD_XY: 670982.49300 4165769.83600
SECONDARY_NE_QUAD_XY: 676498.62400 4165885.59500
SECONDARY_SE_QUAD_XY: 676646.36500 4158950.63400
SECONDARY_SW_QUAD_XY: 671125.61200 4158834.94200
RMSE_XY: 1.04000
IMAGE_SOURCE: BLACK AND WHITE FILM
SOURCE_IMAGE_ID: NAPP 10521 36
SOURCE_IMAGE_DATE: 1998 08 16
SOURCE_DEM_DATE: 1969 00 00
AGENCY: WESTERN MAPPING CENTER (WMC)
PRODUCER: SANBORN COLORADO, L.L.C.
PRODUCTION_SYSTEM: ORBIT OR_RECTIFY V.5.2
COMPRESSION: UNDEFINED
STANDARD_VERSION: 1996 12
METADATA_DATE: 2001 11 29
DATA_FILE_SIZE: 49081590
BYTE_COUNT: 6390
