BEGIN_USGS_DOQ_HEADER *
QUADRANGLE_NAME "CEDAR MOUNTAIN" 3.45 or 7.5-min. name*
QUADRANT NE quadrant indicator if cell size = 3.75-minutes*
WEST_LONGITUDE -121 33 45.000 signed deg min sec SDDD MM SS.SSS*
EAST_LONGITUDE -121 30 0.000 signed deg min sec SDDD MM SS.SSS*
NORTH_LATITUDE 37 37 30.000 signed deg min sec SDDD MM SS.SSS*
SOUTH_LATITUDE 37 33 45.000 signed deg min sec SDDD MM SS.SSS*
PRODUCTION_DATE 1996 5 15 yyyy mm dd*
RASTER_ORDER LEFT_RIGHT/TOP_BOTTOM video display order*
BAND_ORGANIZATION "SINGLE FILE" single file or BSQ, or BIL or BIP*
BAND_CONTENT BLACK&WHITE black&white or red green blue*
BITS_PER_PIXEL 8 radiometric resolution*
SAMPLES_AND_LINES 6331 7641 number of columns and rows*
HORIZONTAL_DATUM NAD83 primary horizontal datum*
HORIZONTAL_COORDINATE_SYSTEM UTM *
COORDINATE_ZONE 10 coordinate system zone number*
HORIZONTAL_UNITS METERS coordinate system units*
HORIZONTAL_RESOLUTION 1.00 pixel horiz. ground sample distance*
SECONDARY_HORIZONTAL_DATUM NAD27 secondary horizontal datum*
XY_ORIGIN 626453.500 4165572.500 coord. of upper left pixel pri. datum*
SECONDARY_XY_ORIGIN 626549.851 4165376.816 coord upper left pixel sec datum*
NATION US nation code*
STATE CA state fip code*
NW_QUAD_CORNER_XY 626852.043 4165180.910 XY coords. of pri. NW quad corner*
NE_QUAD_CORNER_XY 632367.667 4165267.247 XY coords. of pri. NE quad corner*
SE_QUAD_CORNER_XY 632478.448 4158332.608 XY coords. of pri. SE quad corner*
SW_QUAD_CORNER_XY 626958.206 4158246.321 XY coords. of pri. SW quad corner*
SECONDARY_NW_QUAD_XY 626855.184 4164976.170 XY coords. - sec. NW quad cor.*
SECONDARY_NE_QUAD_XY 632370.944 4165062.509 XY coords. - sec. NE quad cor.*
SECONDARY_SE_QUAD_XY 632481.723 4158128.025 XY coords. - sec. SE quad cor.*
SECONDARY_SW_QUAD_XY 626961.344 4158041.736 XY coords. - sec. SW quad cor.*
RMSE_XY 5.30 doq horiz. accuracy*
IMAGE_SOURCE "BLACK AND WHITE FILM" b&w, cir, natural color, other*
SOURCE_IMAGE_ID "NAPP 6355 176" source image id*
SOURCE_IMAGE_DATE 1993 6 15 source image date as yyyy mm dd*
IMAGE_SOURCE "BLACK AND WHITE FILM" b&w, cir, natural color, other*
SOURCE_IMAGE_ID "NAPP 6355 175" source image id*
SOURCE_IMAGE_DATE 1993 6 15 source image date as yyyy mm dd*
IMAGE_SOURCE "BLACK AND WHITE FILM" b&w, cir, natural color, other*
SOURCE_IMAGE_ID "NAPP 6355 177" source image id*
SOURCE_IMAGE_DATE 1993 6 15 source image date as yyyy mm dd*
SOURCE_DEM_DATE 1996 5 15 source dem date yyyy mm dd*
AGENCY "WESTERN MAPPING CENTER (WMC)" oversight agency*
PRODUCER "Woolpert Consultants" producer/contractor*
PRODUCTION_SYSTEM "INTERGRAPH ISPM,ISIR" production system*
STANDARD_VERSION 1996 12 version of DOQ standard*
METADATA_DATE 1997 6 13 date created or changed, yyyy mm dd*
DATA_FILE_SIZE 48381502 data set size in bytes*
BYTE_COUNT 6331 header byte count* * * * * * * * * * * * * * * * * * * * * * * * * * * * * * *
END_USGS_HEADER *
