BEGIN_USGS_DOQ_HEADER *
QUADRANGLE_NAME "VERNALIS" 3.45 or 7.5-min. name*
QUADRANT SE quadrant indicator if cell size = 3.75-minutes*
WEST_LONGITUDE -121 18 45.000 signed deg min sec SDDD MM SS.SSS*
EAST_LONGITUDE -121 15 0.000 signed deg min sec SDDD MM SS.SSS*
NORTH_LATITUDE 37 41 15.000 signed deg min sec SDDD MM SS.SSS*
SOUTH_LATITUDE 37 37 30.000 signed deg min sec SDDD MM SS.SSS*
PRODUCTION_DATE 1996 5 13 yyyy mm dd*
RASTER_ORDER LEFT_RIGHT/TOP_BOTTOM video display order*
BAND_ORGANIZATION "SINGLE FILE" single file or BSQ, or BIL or BIP*
BAND_CONTENT BLACK&WHITE black&white or red green blue*
BITS_PER_PIXEL 8 radiometric resolution*
SAMPLES_AND_LINES 6344 7657 number of columns and rows*
HORIZONTAL_DATUM NAD83 primary horizontal datum*
HORIZONTAL_COORDINATE_SYSTEM UTM *
COORDINATE_ZONE 10 coordinate system zone number*
HORIZONTAL_UNITS METERS coordinate system units*
HORIZONTAL_RESOLUTION 1.00 pixel horiz. ground sample distance*
SECONDARY_HORIZONTAL_DATUM NAD27 secondary horizontal datum*
XY_ORIGIN 648392.500 4172889.500 coord. of upper left pixel pri. datum*
SECONDARY_XY_ORIGIN 648488.873 4172694.101 coord upper left pixel sec datum*
NATION US nation code*
STATE CA state fip code*
NW_QUAD_CORNER_XY 648789.970 4172483.185 XY coords. of pri. NW quad corner*
NE_QUAD_CORNER_XY 654301.139 4172584.287 XY coords. of pri. NE quad corner*
SE_QUAD_CORNER_XY 654430.582 4165649.359 XY coords. of pri. SE quad corner*
SW_QUAD_CORNER_XY 648914.787 4165548.316 XY coords. of pri. SW quad corner*
SECONDARY_NW_QUAD_XY 648793.660 4172278.300 XY coords. - sec. NW quad cor.*
SECONDARY_NE_QUAD_XY 654304.966 4172379.404 XY coords. - sec. NE quad cor.*
SECONDARY_SE_QUAD_XY 654434.406 4165444.631 XY coords. - sec. SE quad cor.*
SECONDARY_SW_QUAD_XY 648918.474 4165343.584 XY coords. - sec. SW quad cor.*
RMSE_XY 1.20 doq horiz. accuracy*
IMAGE_SOURCE "BLACK AND WHITE FILM" b&w, cir, natural color, other*
SOURCE_IMAGE_ID "NAPP 6352 014" source image id*
SOURCE_IMAGE_DATE 1993 5 23 source image date as yyyy mm dd*
SOURCE_DEM_DATE 1996 5 13 source dem date yyyy mm dd*
AGENCY "WESTERN MAPPING CENTER (WMC)" oversight agency*
PRODUCER "Woolpert Consultants" producer/contractor*
PRODUCTION_SYSTEM "INTERGRAPH ISPM,ISIR" production system*
STANDARD_VERSION 1996 12 version of DOQ standard*
METADATA_DATE 1997 6 20 date created or changed, yyyy mm dd*
DATA_FILE_SIZE 48582352 data set size in bytes*
BYTE_COUNT 6344 header byte count* * * * * * * * * * * * * * * * * * * * * * * * * * * * * * * * * * * * *
END_USGS_HEADER *
