BEGIN_USGS_DOQ_HEADER *
QUADRANGLE_NAME "MIDWAY" 3.45 or 7.5-min. name*
QUADRANT SW quadrant indicator if cell size = 3.75-minutes*
WEST_LONGITUDE -121 37 30.000 signed deg min sec SDDD MM SS.SSS*
EAST_LONGITUDE -121 33 45.000 signed deg min sec SDDD MM SS.SSS*
NORTH_LATITUDE 37 41 15.000 signed deg min sec SDDD MM SS.SSS*
SOUTH_LATITUDE 37 37 30.000 signed deg min sec SDDD MM SS.SSS*
PRODUCTION_DATE 1996 5 13 yyyy mm dd*
RASTER_ORDER LEFT_RIGHT/TOP_BOTTOM video display order*
BAND_ORGANIZATION "SINGLE FILE" single file or BSQ, or BIL or BIP*
BAND_CONTENT BLACK&WHITE black&white or red green blue*
BITS_PER_PIXEL 8 radiometric resolution*
SAMPLES_AND_LINES 6322 7637 number of columns and rows*
HORIZONTAL_DATUM NAD83 primary horizontal datum*
HORIZONTAL_COORDINATE_SYSTEM UTM *
COORDINATE_ZONE 10 coordinate system zone number*
HORIZONTAL_UNITS METERS coordinate system units*
HORIZONTAL_RESOLUTION 1.00 pixel horiz. ground sample distance*
SECONDARY_HORIZONTAL_DATUM NAD27 secondary horizontal datum*
XY_ORIGIN 620836.500 4172420.500 coord. of upper left pixel pri. datum*
SECONDARY_XY_ORIGIN 620932.882 4172224.738 coord upper left pixel sec datum*
NATION US nation code*
STATE CA state fip code*
NW_QUAD_CORNER_XY 621234.770 4172032.860 XY coords. of pri. NW quad corner*
NE_QUAD_CORNER_XY 626745.730 4172115.568 XY coords. of pri. NE quad corner*
SE_QUAD_CORNER_XY 626852.043 4165180.910 XY coords. of pri. SE quad corner*
SW_QUAD_CORNER_XY 621336.459 4165098.250 XY coords. of pri. SW quad corner*
SECONDARY_NW_QUAD_XY 621237.777 4171827.964 XY coords. - sec. NW quad cor.*
SECONDARY_NE_QUAD_XY 626748.873 4171910.674 XY coords. - sec. NE quad cor.*
SECONDARY_SE_QUAD_XY 626855.184 4164976.170 XY coords. - sec. SE quad cor.*
SECONDARY_SW_QUAD_XY 621339.463 4164893.507 XY coords. - sec. SW quad cor.*
RMSE_XY 2.50 doq horiz. accuracy*
IMAGE_SOURCE "BLACK AND WHITE FILM" b&w, cir, natural color, other*
SOURCE_IMAGE_ID "NAPP 6356 039" source image id*
SOURCE_IMAGE_DATE 1993 6 15 source image date as yyyy mm dd*
SOURCE_DEM_DATE 1996 5 13 source dem date yyyy mm dd*
AGENCY "WESTERN MAPPING CENTER (WMC)" oversight agency*
PRODUCER "Woolpert Consultants" producer/contractor*
PRODUCTION_SYSTEM "INTERGRAPH ISPM,ISIR" production system*
STANDARD_VERSION 1996 12 version of DOQ standard*
METADATA_DATE 1997 6 20 date created or changed, yyyy mm dd*
DATA_FILE_SIZE 48287436 data set size in bytes*
BYTE_COUNT 6322 header byte count* * * * * * * * * * * * * * * * * * * * * * * * * * * * * * * * * * * * *
END_USGS_HEADER *
