BEGIN_USGS_DOQ_HEADER *
QUADRANGLE_NAME "LATHROP" 3.45 or 7.5-min. name*
QUADRANT SW quadrant indicator if cell size = 3.75-minutes*
WEST_LONGITUDE -121 22 30.000 signed deg min sec SDDD MM SS.SSS*
EAST_LONGITUDE -121 18 45.000 signed deg min sec SDDD MM SS.SSS*
NORTH_LATITUDE 37 48 45.000 signed deg min sec SDDD MM SS.SSS*
SOUTH_LATITUDE 37 45 0.000 signed deg min sec SDDD MM SS.SSS*
PRODUCTION_DATE 1996 6 13 yyyy mm dd*
RASTER_ORDER LEFT_RIGHT/TOP_BOTTOM video display order*
BAND_ORGANIZATION "SINGLE FILE" single file or BSQ, or BIL or BIP*
BAND_CONTENT BLACK&WHITE black&white or red green blue*
BITS_PER_PIXEL 8 radiometric resolution*
SAMPLES_AND_LINES 6330 7653 number of columns and rows*
HORIZONTAL_DATUM NAD83 primary horizontal datum*
HORIZONTAL_COORDINATE_SYSTEM UTM *
COORDINATE_ZONE 10 coordinate system zone number*
HORIZONTAL_UNITS METERS coordinate system units*
HORIZONTAL_RESOLUTION 1.00 pixel horiz. ground sample distance*
SECONDARY_HORIZONTAL_DATUM NAD27 secondary horizontal datum*
XY_ORIGIN 642640.500 4186658.500 coord. of upper left pixel pri. datum*
SECONDARY_XY_ORIGIN 642736.909 4186462.991 coord upper left pixel sec datum*
NATION US nation code*
STATE CA state fip code*
NW_QUAD_CORNER_XY 643037.953 4186255.592 XY coords. of pri. NW quad corner*
NE_QUAD_CORNER_XY 648539.805 4186353.125 XY coords. of pri. NE quad corner*
SE_QUAD_CORNER_XY 648664.976 4179418.121 XY coords. of pri. SE quad corner*
SW_QUAD_CORNER_XY 643158.485 4179320.644 XY coords. of pri. SW quad corner*
SECONDARY_NW_QUAD_XY 643041.512 4186050.399 XY coords. - sec. NW quad cor.*
SECONDARY_NE_QUAD_XY 648543.500 4186147.935 XY coords. - sec. NE quad cor.*
SECONDARY_SE_QUAD_XY 648668.669 4179213.083 XY coords. - sec. SE quad cor.*
SECONDARY_SW_QUAD_XY 643162.042 4179115.603 XY coords. - sec. SW quad cor.*
RMSE_XY 0.60 doq horiz. accuracy*
IMAGE_SOURCE "BLACK AND WHITE FILM" b&w, cir, natural color, other*
SOURCE_IMAGE_ID "NAPP 6352 131" source image id*
SOURCE_IMAGE_DATE 1993 5 23 source image date as yyyy mm dd*
SOURCE_DEM_DATE 1996 6 13 source dem date yyyy mm dd*
AGENCY "WESTERN MAPPING CENTER (WMC)" oversight agency*
PRODUCER "Woolpert Consultants" producer/contractor*
PRODUCTION_SYSTEM "INTERGRAPH ISPM,ISIR" production system*
STANDARD_VERSION 1996 12 version of DOQ standard*
METADATA_DATE 1997 6 20 date created or changed, yyyy mm dd*
DATA_FILE_SIZE 48449820 data set size in bytes*
BYTE_COUNT 6330 header byte count* * * * * * * * * * * * * * * * * * * * * * * * * * * * * * * * * * * * *
END_USGS_HEADER *
