BEGIN_USGS_DOQ_HEADER *
QUADRANGLE_NAME "UNION ISLAND" 3.45 or 7.5-min. name*
QUADRANT SW quadrant indicator if cell size = 3.75-minutes*
WEST_LONGITUDE -121 30 0.000 signed deg min sec SDDD MM SS.SSS*
EAST_LONGITUDE -121 26 15.000 signed deg min sec SDDD MM SS.SSS*
NORTH_LATITUDE 37 48 45.000 signed deg min sec SDDD MM SS.SSS*
SOUTH_LATITUDE 37 45 0.000 signed deg min sec SDDD MM SS.SSS*
PRODUCTION_DATE 1996 5 13 yyyy mm dd*
RASTER_ORDER LEFT_RIGHT/TOP_BOTTOM video display order*
BAND_ORGANIZATION "SINGLE FILE" single file or BSQ, or BIL or BIP*
BAND_CONTENT BLACK&WHITE black&white or red green blue*
BITS_PER_PIXEL 8 radiometric resolution*
SAMPLES_AND_LINES 6322 7645 number of columns and rows*
HORIZONTAL_DATUM NAD83 primary horizontal datum*
HORIZONTAL_COORDINATE_SYSTEM UTM *
COORDINATE_ZONE 10 coordinate system zone number*
HORIZONTAL_UNITS METERS coordinate system units*
HORIZONTAL_RESOLUTION 1.00 pixel horiz. ground sample distance*
SECONDARY_HORIZONTAL_DATUM NAD27 secondary horizontal datum*
XY_ORIGIN 631636.500 4186466.500 coord. of upper left pixel pri. datum*
SECONDARY_XY_ORIGIN 631732.883 4186270.838 coord upper left pixel sec datum*
NATION US nation code*
STATE CA state fip code*
NW_QUAD_CORNER_XY 632034.377 4186071.576 XY coords. of pri. NW quad corner*
NE_QUAD_CORNER_XY 637536.145 4186161.743 XY coords. of pri. NE quad corner*
SE_QUAD_CORNER_XY 637652.038 4179226.847 XY coords. of pri. SE quad corner*
SW_QUAD_CORNER_XY 632145.632 4179136.731 XY coords. of pri. SW quad corner*
SECONDARY_NW_QUAD_XY 632037.662 4185866.378 XY coords. - sec. NW quad cor.*
SECONDARY_NE_QUAD_XY 637539.567 4185956.547 XY coords. - sec. NE quad cor.*
SECONDARY_SE_QUAD_XY 637655.457 4179021.804 XY coords. - sec. SE quad cor.*
SECONDARY_SW_QUAD_XY 632148.914 4178931.686 XY coords. - sec. SW quad cor.*
RMSE_XY 0.60 doq horiz. accuracy*
IMAGE_SOURCE "BLACK AND WHITE FILM" b&w, cir, natural color, other*
SOURCE_IMAGE_ID "NAPP 6355 087" source image id*
SOURCE_IMAGE_DATE 1993 6 15 source image date as yyyy mm dd*
SOURCE_DEM_DATE 1996 5 13 source dem date yyyy mm dd*
AGENCY "WESTERN MAPPING CENTER (WMC)" oversight agency*
PRODUCER "Woolpert Consultants" producer/contractor*
PRODUCTION_SYSTEM "INTERGRAPH ISPM,ISIR" production system*
STANDARD_VERSION 1996 12 version of DOQ standard*
METADATA_DATE 1997 6 20 date created or changed, yyyy mm dd*
DATA_FILE_SIZE 48338012 data set size in bytes*
BYTE_COUNT 6322 header byte count* * * * * * * * * * * * * * * * * * * * * * * * * * * * * * * * * * * * *
END_USGS_HEADER *
