BEGIN_USGS_DOQ_HEADER *
QUADRANGLE_NAME "CLIFTON COURT FOREBAY" 3.45 or 7.5-min. name*
QUADRANT NE quadrant indicator if cell size = 3.75-minutes*
WEST_LONGITUDE -121 33 45.000 signed deg min sec SDDD MM SS.SSS*
EAST_LONGITUDE -121 30 0.000 signed deg min sec SDDD MM SS.SSS*
NORTH_LATITUDE 37 52 30.000 signed deg min sec SDDD MM SS.SSS*
SOUTH_LATITUDE 37 48 45.000 signed deg min sec SDDD MM SS.SSS*
PRODUCTION_DATE 1996 5 13 yyyy mm dd*
RASTER_ORDER LEFT_RIGHT/TOP_BOTTOM video display order*
BAND_ORGANIZATION "SINGLE FILE" single file or BSQ, or BIL or BIP*
BAND_CONTENT BLACK&WHITE black&white or red green blue*
BITS_PER_PIXEL 8 radiometric resolution*
SAMPLES_AND_LINES 6313 7642 number of columns and rows*
HORIZONTAL_DATUM NAD83 primary horizontal datum*
HORIZONTAL_COORDINATE_SYSTEM UTM *
COORDINATE_ZONE 10 coordinate system zone number*
HORIZONTAL_UNITS METERS coordinate system units*
HORIZONTAL_RESOLUTION 1.00 pixel horiz. ground sample distance*
SECONDARY_HORIZONTAL_DATUM NAD27 secondary horizontal datum*
XY_ORIGIN 626027.500 4193311.500 coord. of upper left pixel pri. datum*
SECONDARY_XY_ORIGIN 626123.867 4193115.840 coord upper left pixel sec datum*
NATION US nation code*
STATE CA state fip code*
NW_QUAD_CORNER_XY 626425.882 4192919.957 XY coords. of pri. NW quad corner*
NE_QUAD_CORNER_XY 631922.966 4193006.490 XY coords. of pri. NE quad corner*
SE_QUAD_CORNER_XY 632034.377 4186071.576 XY coords. of pri. SE quad corner*
SW_QUAD_CORNER_XY 626532.649 4185985.092 XY coords. of pri. SW quad corner*
SECONDARY_NW_QUAD_XY 626429.033 4192714.606 XY coords. - sec. NW quad cor.*
SECONDARY_NE_QUAD_XY 631926.253 4192801.140 XY coords. - sec. NE quad cor.*
SECONDARY_SE_QUAD_XY 632037.662 4185866.378 XY coords. - sec. SE quad cor.*
SECONDARY_SW_QUAD_XY 626535.797 4185779.892 XY coords. - sec. SW quad cor.*
RMSE_XY 0.90 doq horiz. accuracy*
IMAGE_SOURCE "BLACK AND WHITE FILM" b&w, cir, natural color, other*
SOURCE_IMAGE_ID "NAPP 6355 168" source image id*
SOURCE_IMAGE_DATE 1993 6 15 source image date as yyyy mm dd*
SOURCE_DEM_DATE 1996 5 13 source dem date yyyy mm dd*
AGENCY "WESTERN MAPPING CENTER (WMC)" oversight agency*
PRODUCER "Woolpert Consultants" producer/contractor*
PRODUCTION_SYSTEM "INTERGRAPH ISPM,ISIR" production system*
STANDARD_VERSION 1996 12 version of DOQ standard*
METADATA_DATE 1997 6 20 date created or changed, yyyy mm dd*
DATA_FILE_SIZE 48250259 data set size in bytes*
BYTE_COUNT 6313 header byte count* * * * * * * * * * * * * * * * * * * * * * * * * * * * * * * * * * * *
END_USGS_HEADER *
