BEGIN_USGS_DOQ_HEADER *
QUADRANGLE_NAME "PETERS" 3.45 or 7.5-min. name*
QUADRANT SW quadrant indicator if cell size = 3.75-minutes*
WEST_LONGITUDE -121 7 30.000 signed deg min sec SDDD MM SS.SSS*
EAST_LONGITUDE -121 3 45.000 signed deg min sec SDDD MM SS.SSS*
NORTH_LATITUDE 37 56 15.000 signed deg min sec SDDD MM SS.SSS*
SOUTH_LATITUDE 37 52 30.000 signed deg min sec SDDD MM SS.SSS*
PRODUCTION_DATE 1996 4 20 yyyy mm dd*
RASTER_ORDER LEFT_RIGHT/TOP_BOTTOM video display order*
BAND_ORGANIZATION "SINGLE FILE" single file or BSQ, or BIL or BIP*
BAND_CONTENT BLACK&WHITE black&white or red green blue*
BITS_PER_PIXEL 8 radiometric resolution*
SAMPLES_AND_LINES 6340 7669 number of columns and rows*
HORIZONTAL_DATUM NAD83 primary horizontal datum*
HORIZONTAL_COORDINATE_SYSTEM UTM *
COORDINATE_ZONE 10 coordinate system zone number*
HORIZONTAL_UNITS METERS coordinate system units*
HORIZONTAL_RESOLUTION 1.00 pixel horiz. ground sample distance*
SECONDARY_HORIZONTAL_DATUM NAD27 secondary horizontal datum*
XY_ORIGIN 664369.500 4200955.500 coord. of upper left pixel pri. datum*
SECONDARY_XY_ORIGIN 664466.010 4200760.240 coord upper left pixel sec datum*
NATION US nation code*
STATE CA state fip code*
NW_QUAD_CORNER_XY 664766.850 4200538.380 XY coords. of pri. NW quad corner*
NE_QUAD_CORNER_XY 670259.590 4200650.780 XY coords. of pri. NE quad corner*
SE_QUAD_CORNER_XY 670403.730 4193715.400 XY coords. of pri. SE quad corner*
SW_QUAD_CORNER_XY 664906.340 4193603.070 XY coords. of pri. SW quad corner*
SECONDARY_NW_QUAD_XY 664770.970 4200332.900 XY coords. - sec. NW quad cor.*
SECONDARY_NE_QUAD_XY 670263.840 4200445.300 XY coords. - sec. NE quad cor.*
SECONDARY_SE_QUAD_XY 670407.980 4193510.070 XY coords. - sec. SE quad cor.*
SECONDARY_SW_QUAD_XY 664910.450 4193397.740 XY coords. - sec. SW quad cor.*
RMSE_XY 1.50 doq horiz. accuracy*
IMAGE_SOURCE "BLACK AND WHITE FILM" b&w, cir, natural color, other*
SOURCE_IMAGE_ID "PAPP 1351 808" source image id*
SOURCE_IMAGE_DATE 1993 5 22 source image date as yyyy mm dd*
SOURCE_DEM_DATE 1996 4 20 source dem date yyyy mm dd*
AGENCY "WESTERN MAPPING CENTER (WMC)" oversight agency*
PRODUCER "Woolpert Consultants" producer/contractor*
PRODUCTION_SYSTEM "INTERGRAPH ISPM,ISIR" production system*
STANDARD_VERSION 1996 12 version of DOQ standard*
METADATA_DATE 1997 6 4 date created or changed, yyyy mm dd*
DATA_FILE_SIZE 48627800 data set size in bytes*
BYTE_COUNT 6340 header byte count* * * * * * * * * * * * * * * * * * * * * * * * * * * * * * * * * * * * *
END_USGS_HEADER *
