BEGIN_USGS_DOQ_HEADER *
QUADRANGLE_NAME "STOCKTON WEST" 3.45 or 7.5-min. name*
QUADRANT SE quadrant indicator if cell size = 3.75-minutes*
WEST_LONGITUDE -121 18 45.000 signed deg min sec SDDD MM SS.SSS*
EAST_LONGITUDE -121 15 0.000 signed deg min sec SDDD MM SS.SSS*
NORTH_LATITUDE 37 56 15.000 signed deg min sec SDDD MM SS.SSS*
SOUTH_LATITUDE 37 52 30.000 signed deg min sec SDDD MM SS.SSS*
PRODUCTION_DATE 2001 10 26 yyyy mm dd*
RASTER_ORDER LEFT_RIGHT/TOP_BOTTOM video display order*
BAND_ORGANIZATION "SINGLE FILE" single file or BSQ, or BIL or BIP*
BAND_CONTENT BLACK&WHITE black&white or red green blue*
BITS_PER_PIXEL 8 radiometric resolution*
SAMPLES_AND_LINES 6319 7650 number of columns and rows*
HORIZONTAL_DATUM NAD83 primary horizontal datum*
HORIZONTAL_COORDINATE_SYSTEM UTM *
COORDINATE_ZONE 10 coordinate system zone number*
HORIZONTAL_UNITS METERS coordinate system units*
HORIZONTAL_RESOLUTION 1.00 pixel horiz. ground sample distance*
SECONDARY_HORIZONTAL_DATUM NAD27 secondary horizontal datum*
XY_ORIGIN 647895.000 4200626.000 coord. of upper left pixel pri. datum*
SECONDARY_XY_ORIGIN 647992.000 4200431.000 coord upper left pixel sec datum*
NATION US nation code*
STATE CA state fip code*
NW_QUAD_CORNER_XY 648288.930 4200223.335 XY coords. of pri. NW quad corner*
NE_QUAD_CORNER_XY 653781.526 4200324.664 XY coords. of pri. NE quad corner*
SE_QUAD_CORNER_XY 653911.705 4193389.469 XY coords. of pri. SE quad corner*
SW_QUAD_CORNER_XY 648414.456 4193288.196 XY coords. of pri. SW quad corner*
SECONDARY_NW_QUAD_XY 648292.631 4200017.842 XY coords. - sec. NW quad cor.*
SECONDARY_NE_QUAD_XY 653785.364 4200119.174 XY coords. - sec. NE quad cor.*
SECONDARY_SE_QUAD_XY 653915.540 4193184.130 XY coords. - sec. SE quad cor.*
SECONDARY_SW_QUAD_XY 648418.154 4193082.854 XY coords. - sec. SW quad cor.*
RMSE_XY 3.10 doq horiz. accuracy*
IMAGE_SOURCE "BLACK AND WHITE FILM" b&w, cir, natural color, other*
SOURCE_IMAGE_ID "NAPP 10522 149" source image id*
SOURCE_IMAGE_DATE 1998 8 17 source image date as yyyy mm dd*
SOURCE_DEM_DATE 1949 1 1 source dem date yyyy mm dd*
AGENCY "WESTERN MAPPING CENTER (WMC)" oversight agency*
PRODUCER "WESTERN MAPPING CENTER (WMC)" *
PRODUCTION_SYSTEM "DV2.6.4 1/00 OV2.6 6/00" production system*
STANDARD_VERSION 1996 12 version of DOQ standard*
METADATA_DATE 2001 10 26 date created or changed, yyyy mm dd*
DATA_FILE_SIZE 48346669 data set size in bytes*
BYTE_COUNT 6319 header byte count* * * * * * * * * * * * * * * * * * * * * * * * * * * * * * * * * * * *
END_USGS_HEADER *
