BEGIN_USGS_DOQ_HEADER *
QUADRANGLE_NAME "DAVENPORT" 3.45 or 7.5-min. name*
QUADRANT NW quadrant indicator if cell size = 3.75-minutes*
WEST_LONGITUDE -122 15 0.000 signed deg min sec SDDD MM SS.SSS*
EAST_LONGITUDE -122 11 15.000 signed deg min sec SDDD MM SS.SSS*
NORTH_LATITUDE 37 7 30.000 signed deg min sec SDDD MM SS.SSS*
SOUTH_LATITUDE 37 3 45.000 signed deg min sec SDDD MM SS.SSS*
PRODUCTION_DATE 1993 4 23 yyyy mm dd*
RASTER_ORDER LEFT_RIGHT/TOP_BOTTOM video display order*
BAND_ORGANIZATION "SINGLE FILE" single file or BSQ, or BIL or BIP*
BAND_CONTENT BLACK&WHITE black&white or red green blue*
BITS_PER_PIXEL 8 radiometric resolution*
SAMPLES_AND_LINES 6316 7596 number of columns and rows*
HORIZONTAL_DATUM NAD83 primary horizontal datum*
HORIZONTAL_COORDINATE_SYSTEM UTM *
COORDINATE_ZONE 10 coordinate system zone number*
HORIZONTAL_UNITS METERS coordinate system units*
HORIZONTAL_RESOLUTION 1.00 pixel horiz. ground sample distance*
SECONDARY_HORIZONTAL_DATUM NAD27 secondary horizontal datum*
XY_ORIGIN 566222.000 4109353.000 coord. of upper left pixel pri. datum*
SECONDARY_XY_ORIGIN 566319.000 4109157.000 coord upper left pixel sec datum*
NATION US nation code*
STATE CA state fip code*
NW_QUAD_CORNER_XY 566623.175 4109002.361 XY coords. of pri. NW quad corner*
NE_QUAD_CORNER_XY 572175.204 4109048.056 XY coords. of pri. NE quad corner*
SE_QUAD_CORNER_XY 572234.510 4102114.426 XY coords. of pri. SE quad corner*
SW_QUAD_CORNER_XY 566677.918 4102068.760 XY coords. of pri. SW quad corner*
SECONDARY_NW_QUAD_XY 566624.803 4108798.865 XY coords. - sec. NW quad cor.*
SECONDARY_NE_QUAD_XY 572176.968 4108844.560 XY coords. - sec. NE quad cor.*
SECONDARY_SE_QUAD_XY 572236.273 4101911.092 XY coords. - sec. SE quad cor.*
SECONDARY_SW_QUAD_XY 566679.545 4101865.424 XY coords. - sec. SW quad cor.*
RMSE_XY 6.90 doq horiz. accuracy*
IMAGE_SOURCE "BLACK AND WHITE FILM" b&w, cir, natural color, other*
SOURCE_IMAGE_ID "VFNW 1 128" source image id*
SOURCE_IMAGE_DATE 1991 10 30 source image date as yyyy mm dd*
SOURCE_DEM_DATE 1993 4 23 source dem date yyyy mm dd*
AGENCY "WESTERN MAPPING CENTER (WMC)" oversight agency*
PRODUCER "WMC" producer/contractor*
PRODUCTION_SYSTEM "DV1.2 03/93 OV1.1 04/93" production system*
STANDARD_VERSION 1996 12 version of DOQ standard*
METADATA_DATE 1997 6 13 date created or changed, yyyy mm dd*
DATA_FILE_SIZE 47982652 data set size in bytes*
BYTE_COUNT 6316 header byte count* * * * * * * * * * * * * * * * * * * * * * * * * * * * * * * * * * * *
END_USGS_HEADER *
