BEGIN_USGS_DOQ_HEADER *
QUADRANGLE_NAME "CASTLE ROCK RIDGE" 3.45 or 7.5-min. name*
QUADRANT NW quadrant indicator if cell size = 3.75-minutes*
WEST_LONGITUDE -122 7 30.000 signed deg min sec SDDD MM SS.SSS*
EAST_LONGITUDE -122 3 45.000 signed deg min sec SDDD MM SS.SSS*
NORTH_LATITUDE 37 15 0.000 signed deg min sec SDDD MM SS.SSS*
SOUTH_LATITUDE 37 11 15.000 signed deg min sec SDDD MM SS.SSS*
PRODUCTION_DATE 1993 6 10 yyyy mm dd*
RASTER_ORDER LEFT_RIGHT/TOP_BOTTOM video display order*
BAND_ORGANIZATION "SINGLE FILE" single file or BSQ, or BIL or BIP*
BAND_CONTENT BLACK&WHITE black&white or red green blue*
BITS_PER_PIXEL 8 radiometric resolution*
SAMPLES_AND_LINES 6316 7605 number of columns and rows*
HORIZONTAL_DATUM NAD83 primary horizontal datum*
HORIZONTAL_COORDINATE_SYSTEM UTM *
COORDINATE_ZONE 10 coordinate system zone number*
HORIZONTAL_UNITS METERS coordinate system units*
HORIZONTAL_RESOLUTION 1.00 pixel horiz. ground sample distance*
SECONDARY_HORIZONTAL_DATUM NAD27 secondary horizontal datum*
XY_ORIGIN 577199.000 4123323.000 coord. of upper left pixel pri. datum*
SECONDARY_XY_ORIGIN 577296.105 4123126.320 coord upper left pixel sec datum*
NATION US nation code*
STATE CA state fip code*
NW_QUAD_CORNER_XY 577599.242 4122964.942 XY coords. of pri. NW quad corner*
NE_QUAD_CORNER_XY 583142.174 4123018.014 XY coords. of pri. NE quad corner*
SE_QUAD_CORNER_XY 583210.804 4116084.178 XY coords. of pri. SE quad corner*
SW_QUAD_CORNER_XY 577663.296 4116031.138 XY coords. of pri. SW quad corner*
SECONDARY_NW_QUAD_XY 577601.145 4122761.128 XY coords. - sec. NW quad cor.*
SECONDARY_NE_QUAD_XY 583144.213 4122814.201 XY coords. - sec. NE quad cor.*
SECONDARY_SE_QUAD_XY 583212.841 4115880.525 XY coords. - sec. SE quad cor.*
SECONDARY_SW_QUAD_XY 577665.197 4115827.484 XY coords. - sec. SW quad cor.*
RMSE_XY 3.90 doq horiz. accuracy*
IMAGE_SOURCE "BLACK AND WHITE FILM" b&w, cir, natural color, other*
SOURCE_IMAGE_ID "VFNW 1 4" source image id*
SOURCE_IMAGE_DATE 1991 10 30 source image date as yyyy mm dd*
SOURCE_DEM_DATE 1993 6 10 source dem date yyyy mm dd*
AGENCY "WESTERN MAPPING CENTER (WMC)" oversight agency*
PRODUCER "WMC" producer/contractor*
PRODUCTION_SYSTEM "DV1.2 03/93 OV1.1 04/93" production system*
STANDARD_VERSION 1996 12 version of DOQ standard*
METADATA_DATE 1997 6 13 date created or changed, yyyy mm dd*
DATA_FILE_SIZE 48039496 data set size in bytes*
BYTE_COUNT 6316 header byte count* * * * * * * * * * * * * * * * * * * * * * * * * * * * * * * * * * * *
END_USGS_HEADER *
