BEGIN_USGS_DOQ_HEADER *
QUADRANGLE_NAME "CUPERTINO" 3.45 or 7.5-min. name*
QUADRANT NE quadrant indicator if cell size = 3.75-minutes*
WEST_LONGITUDE -122 3 45.000 signed deg min sec SDDD MM SS.SSS*
EAST_LONGITUDE -122 0 0.000 signed deg min sec SDDD MM SS.SSS*
NORTH_LATITUDE 37 22 30.000 signed deg min sec SDDD MM SS.SSS*
SOUTH_LATITUDE 37 18 45.000 signed deg min sec SDDD MM SS.SSS*
PRODUCTION_DATE 1993 4 28 yyyy mm dd*
RASTER_ORDER LEFT_RIGHT/TOP_BOTTOM video display order*
BAND_ORGANIZATION "SINGLE FILE" single file or BSQ, or BIL or BIP*
BAND_CONTENT BLACK&WHITE black&white or red green blue*
BITS_PER_PIXEL 8 radiometric resolution*
SAMPLES_AND_LINES 6312 7609 number of columns and rows*
HORIZONTAL_DATUM NAD83 primary horizontal datum*
HORIZONTAL_COORDINATE_SYSTEM UTM *
COORDINATE_ZONE 10 coordinate system zone number*
HORIZONTAL_UNITS METERS coordinate system units*
HORIZONTAL_RESOLUTION 1.00 pixel horiz. ground sample distance*
SECONDARY_HORIZONTAL_DATUM NAD27 secondary horizontal datum*
XY_ORIGIN 582605.000 4137248.000 coord. of upper left pixel pri. datum*
SECONDARY_XY_ORIGIN 582701.951 4137051.363 coord upper left pixel sec datum*
NATION US nation code*
STATE CA state fip code*
NW_QUAD_CORNER_XY 583004.616 4136885.901 XY coords. of pri. NW quad corner*
NE_QUAD_CORNER_XY 588538.401 4136942.703 XY coords. of pri. NE quad corner*
SE_QUAD_CORNER_XY 588611.820 4130008.690 XY coords. of pri. SE quad corner*
SW_QUAD_CORNER_XY 583073.444 4129951.922 XY coords. of pri. SW quad corner*
SECONDARY_NW_QUAD_XY 583006.658 4136681.771 XY coords. - sec. NW quad cor.*
SECONDARY_NE_QUAD_XY 588540.579 4136738.574 XY coords. - sec. NE quad cor.*
SECONDARY_SE_QUAD_XY 588613.996 4129804.719 XY coords. - sec. SE quad cor.*
SECONDARY_SW_QUAD_XY 583075.485 4129747.950 XY coords. - sec. SW quad cor.*
RMSE_XY 2.00 doq horiz. accuracy*
IMAGE_SOURCE "BLACK AND WHITE FILM" b&w, cir, natural color, other*
SOURCE_IMAGE_ID "VFNW 1 101" source image id*
SOURCE_IMAGE_DATE 1991 10 30 source image date as yyyy mm dd*
SOURCE_DEM_DATE 1993 4 28 source dem date yyyy mm dd*
AGENCY "WESTERN MAPPING CENTER (WMC)" oversight agency*
PRODUCER "WMC" producer/contractor*
PRODUCTION_SYSTEM "DV1.2 03/93 OV1.1 04/93" production system*
STANDARD_VERSION 1996 12 version of DOQ standard*
METADATA_DATE 1997 6 17 date created or changed, yyyy mm dd*
DATA_FILE_SIZE 48034320 data set size in bytes*
BYTE_COUNT 6312 header byte count* * * * * * * * * * * * * * * * * * * * * * * * * * * * * * * * * * * *
END_USGS_HEADER *
