BEGIN_USGS_DOQ_HEADER *
QUADRANGLE_NAME "MINDEGO HILL" 3.45 or 7.5-min. name*
QUADRANT SE quadrant indicator if cell size = 3.75-minutes*
WEST_LONGITUDE -122 11 15.000 signed deg min sec SDDD MM SS.SSS*
EAST_LONGITUDE -122 7 30.000 signed deg min sec SDDD MM SS.SSS*
NORTH_LATITUDE 37 18 45.000 signed deg min sec SDDD MM SS.SSS*
SOUTH_LATITUDE 37 15 0.000 signed deg min sec SDDD MM SS.SSS*
PRODUCTION_DATE 2001 4 3 yyyy mm dd*
RASTER_ORDER LEFT_RIGHT/TOP_BOTTOM video display order*
BAND_ORGANIZATION "SINGLE FILE" single file or BSQ, or BIL or BIP*
BAND_CONTENT BLACK&WHITE black&white or red green blue*
BITS_PER_PIXEL 8 radiometric resolution*
SAMPLES_AND_LINES 6299 7591 number of columns and rows*
HORIZONTAL_DATUM NAD83 primary horizontal datum*
HORIZONTAL_COORDINATE_SYSTEM UTM *
COORDINATE_ZONE 10 coordinate system zone number*
HORIZONTAL_UNITS METERS coordinate system units*
HORIZONTAL_RESOLUTION 1.00 pixel horiz. ground sample distance*
SECONDARY_HORIZONTAL_DATUM NAD27 secondary horizontal datum*
XY_ORIGIN 571601.000 4130199.000 coord. of upper left pixel pri. datum*
SECONDARY_XY_ORIGIN 571698.096 4130002.281 coord upper left pixel sec datum*
NATION US nation code*
STATE CA state fip code*
NW_QUAD_CORNER_XY 571996.771 4129849.376 XY coords. of pri. NW quad corner*
NE_QUAD_CORNER_XY 577535.095 4129898.817 XY coords. of pri. NE quad corner*
SE_QUAD_CORNER_XY 577599.242 4122964.942 XY coords. of pri. SE quad corner*
SW_QUAD_CORNER_XY 572056.335 4122915.531 XY coords. of pri. SW quad corner*
SECONDARY_NW_QUAD_XY 571998.539 4129645.402 XY coords. - sec. NW quad cor.*
SECONDARY_NE_QUAD_XY 577537.000 4129694.844 XY coords. - sec. NE quad cor.*
SECONDARY_SE_QUAD_XY 577601.145 4122761.128 XY coords. - sec. SE quad cor.*
SECONDARY_SW_QUAD_XY 572058.102 4122711.715 XY coords. - sec. SW quad cor.*
RMSE_XY 2.70 doq horiz. accuracy*
IMAGE_SOURCE "BLACK & WHITE FILM" b&w, cir, natural color, other*
SOURCE_IMAGE_ID "GSXY 1 48" source image id*
SOURCE_IMAGE_DATE 1953 5 3 source image date as yyyy mm dd*
SOURCE_IMAGE_ID "GSXY 1 50" source image id*
SOURCE_IMAGE_DATE 1953 5 3 source image date as yyyy mm dd*
SOURCE_IMAGE_ID "GSXY 1 51" source image id*
SOURCE_IMAGE_DATE 1953 5 3 source image date as yyyy mm dd*
SOURCE_IMAGE_ID "GSXY 1 68" source image id*
SOURCE_IMAGE_DATE 1953 5 3 source image date as yyyy mm dd*
SOURCE_IMAGE_ID "GSXY 1 70" source image id*
SOURCE_IMAGE_DATE 1953 5 3 source image date as yyyy mm dd*
SOURCE_DEM_DATE 1953 1 1 source dem date yyyy mm dd*
AGENCY "WESTERN MAPPING CENTER (WMC)" agency or agency & contractor*
PRODUCER "WESTERN MAPPING CENTER (WMC)" producer*
PRODUCTION_SYSTEM "DV2.6.4 1/00 OV2.6 6/00" production system*
STANDARD_VERSION 1996 12 version of DOQ standard*
METADATA_DATE 2001 4 4 date created or changed, yyyy mm dd*
DATA_FILE_SIZE 47822008 data set size in bytes*
BYTE_COUNT 6299 header byte count* * * * * * * * * * * * * * * * * * * * * * * * * * * *
END_USGS_HEADER *
