BEGIN_USGS_DOQ_HEADER *
QUADRANGLE_NAME "MINDEGO HILL" 3.45 or 7.5-min. name*
QUADRANT SW quadrant indicator if cell size = 3.75-minutes*
WEST_LONGITUDE -122 15 0.000 signed deg min sec SDDD MM SS.SSS*
EAST_LONGITUDE -122 11 15.000 signed deg min sec SDDD MM SS.SSS*
NORTH_LATITUDE 37 18 45.000 signed deg min sec SDDD MM SS.SSS*
SOUTH_LATITUDE 37 15 0.000 signed deg min sec SDDD MM SS.SSS*
PRODUCTION_DATE 1993 4 22 yyyy mm dd*
RASTER_ORDER LEFT_RIGHT/TOP_BOTTOM video display order*
BAND_ORGANIZATION "SINGLE FILE" single file or BSQ, or BIL or BIP*
BAND_CONTENT BLACK&WHITE black&white or red green blue*
BITS_PER_PIXEL 8 radiometric resolution*
SAMPLES_AND_LINES 6304 7597 number of columns and rows*
HORIZONTAL_DATUM NAD83 primary horizontal datum*
HORIZONTAL_COORDINATE_SYSTEM UTM *
COORDINATE_ZONE 10 coordinate system zone number*
HORIZONTAL_UNITS METERS coordinate system units*
HORIZONTAL_RESOLUTION 1.00 pixel horiz. ground sample distance*
SECONDARY_HORIZONTAL_DATUM NAD27 secondary horizontal datum*
XY_ORIGIN 566058.000 4130154.000 coord. of upper left pixel pri. datum*
SECONDARY_XY_ORIGIN 566155.155 4129957.233 coord upper left pixel sec datum*
NATION US nation code*
STATE CA state fip code*
NW_QUAD_CORNER_XY 566458.470 4129803.598 XY coords. of pri. NW quad corner*
NE_QUAD_CORNER_XY 571996.771 4129849.376 XY coords. of pri. NE quad corner*
SE_QUAD_CORNER_XY 572056.335 4122915.531 XY coords. of pri. SE quad corner*
SW_QUAD_CORNER_XY 566513.451 4122869.780 XY coords. of pri. SW quad corner*
SECONDARY_NW_QUAD_XY 566460.102 4129599.622 XY coords. - sec. NW quad cor.*
SECONDARY_NE_QUAD_XY 571998.539 4129645.402 XY coords. - sec. NE quad cor.*
SECONDARY_SE_QUAD_XY 572058.102 4122711.715 XY coords. - sec. SE quad cor.*
SECONDARY_SW_QUAD_XY 566515.082 4122665.963 XY coords. - sec. SW quad cor.*
RMSE_XY 5.90 doq horiz. accuracy*
IMAGE_SOURCE "BLACK AND WHITE FILM" b&w, cir, natural color, other*
SOURCE_IMAGE_ID "VFNW 1 134" source image id*
SOURCE_IMAGE_DATE 1991 10 30 source image date as yyyy mm dd*
SOURCE_DEM_DATE 1993 4 22 source dem date yyyy mm dd*
AGENCY "WESTERN MAPPING CENTER (WMC)" oversight agency*
PRODUCER "WMC" producer/contractor*
PRODUCTION_SYSTEM "DV1.2 03/93 OV1.1 04/93" production system*
STANDARD_VERSION 1996 12 version of DOQ standard*
METADATA_DATE 1997 6 13 date created or changed, yyyy mm dd*
DATA_FILE_SIZE 47897792 data set size in bytes*
BYTE_COUNT 6304 header byte count* * * * * * * * * * * * * * * * * * * * * * * * * * * * * * * * * * * *
END_USGS_HEADER *
