BEGIN_USGS_DOQ_HEADER *
QUADRANGLE_NAME "PALO ALTO" 3.45 or 7.5-min. name*
QUADRANT NW quadrant indicator if cell size = 3.75-minutes*
WEST_LONGITUDE -122 15 0.000 signed deg min sec SDDD MM SS.SSS*
EAST_LONGITUDE -122 11 15.000 signed deg min sec SDDD MM SS.SSS*
NORTH_LATITUDE 37 30 0.000 signed deg min sec SDDD MM SS.SSS*
SOUTH_LATITUDE 37 26 15.000 signed deg min sec SDDD MM SS.SSS*
PRODUCTION_DATE 2001 2 23 yyyy mm dd*
RASTER_ORDER LEFT_RIGHT/TOP_BOTTOM video display order*
BAND_ORGANIZATION "SINGLE FILE" single file or BSQ, or BIL or BIP*
BAND_CONTENT BLACK&WHITE black&white or red green blue*
BITS_PER_PIXEL 8 radiometric resolution*
SAMPLES_AND_LINES 6281 7589 number of columns and rows*
HORIZONTAL_DATUM NAD83 primary horizontal datum*
HORIZONTAL_COORDINATE_SYSTEM UTM *
COORDINATE_ZONE 10 coordinate system zone number*
HORIZONTAL_UNITS METERS coordinate system units*
HORIZONTAL_RESOLUTION 1.00 pixel horiz. ground sample distance*
SECONDARY_HORIZONTAL_DATUM NAD27 secondary horizontal datum*
XY_ORIGIN 565897.000 4150952.000 coord. of upper left pixel pri. datum*
SECONDARY_XY_ORIGIN 565993.805 4150755.300 coord upper left pixel sec datum*
NATION US nation code*
STATE CA state fip code*
NW_QUAD_CORNER_XY 566293.050 4150605.484 XY coords. of pri. NW quad corner*
NE_QUAD_CORNER_XY 571817.564 4150651.344 XY coords. of pri. NE quad corner*
SE_QUAD_CORNER_XY 571877.386 4143717.283 XY coords. of pri. SE quad corner*
SW_QUAD_CORNER_XY 566348.269 4143671.450 XY coords. of pri. SW quad corner*
SECONDARY_NW_QUAD_XY 566294.687 4150401.037 XY coords. - sec. NW quad cor.*
SECONDARY_NE_QUAD_XY 571819.337 4150446.898 XY coords. - sec. NE quad cor.*
SECONDARY_SE_QUAD_XY 571879.157 4143512.993 XY coords. - sec. SE quad cor.*
SECONDARY_SW_QUAD_XY 566349.904 4143467.159 XY coords. - sec. SW quad cor.*
RMSE_XY 2.70 doq horiz. accuracy*
IMAGE_SOURCE "BLACK & WHITE FILM" b&w, cir, natural color, other*
SOURCE_IMAGE_ID "GSHR 2 40" source image id*
SOURCE_IMAGE_DATE 1948 9 26 source image date as yyyy mm dd*
SOURCE_IMAGE_ID "GSHR 2 42" source image id*
SOURCE_IMAGE_DATE 1948 9 26 source image date as yyyy mm dd*
SOURCE_IMAGE_ID "GSHR 2 44" source image id*
SOURCE_IMAGE_DATE 1948 9 26 source image date as yyyy mm dd*
SOURCE_IMAGE_ID "GSHR 2 64" source image id*
SOURCE_IMAGE_DATE 1948 9 26 source image date as yyyy mm dd*
SOURCE_IMAGE_ID "GSHR 2 66" source image id*
SOURCE_IMAGE_DATE 1948 9 26 source image date as yyyy mm dd*
SOURCE_DEM_DATE 1948 1 1 source dem date yyyy mm dd*
AGENCY "WESTERN MAPPING CENTER (WMC)" agency or agency & contractor*
PRODUCER "WESTERN MAPPING CENTER (WMC)" producer*
PRODUCTION_SYSTEM "DV2.6.4 1/00 OV2.6 6/00" production system*
STANDARD_VERSION 1996 12 version of DOQ standard*
METADATA_DATE 2001 3 14 date created or changed, yyyy mm dd*
DATA_FILE_SIZE 47672790 data set size in bytes*
BYTE_COUNT 6281 header byte count* * * * * * * * * * * * * * * * * * * * * * * * * * * *
END_USGS_HEADER *
