BEGIN_USGS_DOQ_HEADER *
QUADRANGLE_NAME "PALO ALTO" 3.45 or 7.5-min. name*
QUADRANT SE quadrant indicator if cell size = 3.75-minutes*
WEST_LONGITUDE -122 11 15.000 signed deg min sec SDDD MM SS.SSS*
EAST_LONGITUDE -122 7 30.000 signed deg min sec SDDD MM SS.SSS*
NORTH_LATITUDE 37 26 15.000 signed deg min sec SDDD MM SS.SSS*
SOUTH_LATITUDE 37 22 30.000 signed deg min sec SDDD MM SS.SSS*
PRODUCTION_DATE 2001 3 12 yyyy mm dd*
RASTER_ORDER LEFT_RIGHT/TOP_BOTTOM video display order*
BAND_ORGANIZATION "SINGLE FILE" single file or BSQ, or BIL or BIP*
BAND_CONTENT BLACK&WHITE black&white or red green blue*
BITS_PER_PIXEL 8 radiometric resolution*
SAMPLES_AND_LINES 6289 7592 number of columns and rows*
HORIZONTAL_DATUM NAD83 primary horizontal datum*
HORIZONTAL_COORDINATE_SYSTEM UTM *
COORDINATE_ZONE 10 coordinate system zone number*
HORIZONTAL_UNITS METERS coordinate system units*
HORIZONTAL_RESOLUTION 1.00 pixel horiz. ground sample distance*
SECONDARY_HORIZONTAL_DATUM NAD27 secondary horizontal datum*
XY_ORIGIN 571482.000 4144067.000 coord. of upper left pixel pri. datum*
SECONDARY_XY_ORIGIN 571578.912 4143870.309 coord upper left pixel sec datum*
NATION US nation code*
STATE CA state fip code*
NW_QUAD_CORNER_XY 571877.386 4143717.283 XY coords. of pri. NW quad corner*
NE_QUAD_CORNER_XY 577406.525 4143766.783 XY coords. of pri. NE quad corner*
SE_QUAD_CORNER_XY 577470.856 4136832.765 XY coords. of pri. SE quad corner*
SW_QUAD_CORNER_XY 571937.121 4136783.293 XY coords. of pri. SW quad corner*
SECONDARY_NW_QUAD_XY 571879.157 4143512.993 XY coords. - sec. NW quad cor.*
SECONDARY_NE_QUAD_XY 577408.432 4143562.495 XY coords. - sec. NE quad cor.*
SECONDARY_SE_QUAD_XY 577472.762 4136628.633 XY coords. - sec. SE quad cor.*
SECONDARY_SW_QUAD_XY 571938.891 4136579.161 XY coords. - sec. SW quad cor.*
RMSE_XY 1.70 doq horiz. accuracy*
IMAGE_SOURCE "BLACK & WHITE FILM" b&w, cir, natural color, other*
SOURCE_IMAGE_ID "GSHR 2 112" source image id*
SOURCE_IMAGE_DATE 1948 9 26 source image date as yyyy mm dd*
SOURCE_IMAGE_ID "GSHR 2 114" source image id*
SOURCE_IMAGE_DATE 1948 9 26 source image date as yyyy mm dd*
SOURCE_IMAGE_ID "GSHR 2 139" source image id*
SOURCE_IMAGE_DATE 1948 9 26 source image date as yyyy mm dd*
SOURCE_IMAGE_ID "GSHR 2 141" source image id*
SOURCE_IMAGE_DATE 1948 9 26 source image date as yyyy mm dd*
SOURCE_IMAGE_ID "GSHR 2 143" source image id*
SOURCE_IMAGE_DATE 1948 9 26 source image date as yyyy mm dd*
SOURCE_DEM_DATE 2001 3 12 source dem date yyyy mm dd*
AGENCY "WESTERN MAPPING CENTER (WMC)" agency or agency & contractor*
PRODUCER "WESTERN MAPPING CENTER (WMC)" producer*
PRODUCTION_SYSTEM "DV2.6.4 1/00 OV2.6 6/00" production system*
STANDARD_VERSION 1996 12 version of DOQ standard*
METADATA_DATE 2001 3 14 date created or changed, yyyy mm dd*
DATA_FILE_SIZE 47752377 data set size in bytes*
BYTE_COUNT 6289 header byte count* * * * * * * * * * * * * * * * * * * * * * * * * * * *
END_USGS_HEADER *
