BEGIN_USGS_DOQ_HEADER *
QUADRANGLE_NAME "WOODSIDE" 3.45 or 7.5-min. name*
QUADRANT NE quadrant indicator if cell size = 3.75-minutes*
WEST_LONGITUDE -122 18 45.000 signed deg min sec SDDD MM SS.SSS*
EAST_LONGITUDE -122 15 0.000 signed deg min sec SDDD MM SS.SSS*
NORTH_LATITUDE 37 30 0.000 signed deg min sec SDDD MM SS.SSS*
SOUTH_LATITUDE 37 26 15.000 signed deg min sec SDDD MM SS.SSS*
PRODUCTION_DATE 2001 3 13 yyyy mm dd*
RASTER_ORDER LEFT_RIGHT/TOP_BOTTOM video display order*
BAND_ORGANIZATION "SINGLE FILE" single file or BSQ, or BIL or BIP*
BAND_CONTENT BLACK&WHITE black&white or red green blue*
BITS_PER_PIXEL 8 radiometric resolution*
SAMPLES_AND_LINES 6276 7585 number of columns and rows*
HORIZONTAL_DATUM NAD83 primary horizontal datum*
HORIZONTAL_COORDINATE_SYSTEM UTM *
COORDINATE_ZONE 10 coordinate system zone number*
HORIZONTAL_UNITS METERS coordinate system units*
HORIZONTAL_RESOLUTION 1.00 pixel horiz. ground sample distance*
SECONDARY_HORIZONTAL_DATUM NAD27 secondary horizontal datum*
XY_ORIGIN 560373.000 4150906.000 coord. of upper left pixel pri. datum*
SECONDARY_XY_ORIGIN 560469.948 4150709.115 coord upper left pixel sec datum*
NATION US nation code*
STATE CA state fip code*
NW_QUAD_CORNER_XY 560768.557 4150563.293 XY coords. of pri. NW quad corner*
NE_QUAD_CORNER_XY 566293.050 4150605.484 XY coords. of pri. NE quad corner*
SE_QUAD_CORNER_XY 566348.269 4143671.450 XY coords. of pri. SE quad corner*
SW_QUAD_CORNER_XY 560819.174 4143629.284 XY coords. of pri. SW quad corner*
SECONDARY_NW_QUAD_XY 560770.057 4150358.845 XY coords. - sec. NW quad cor.*
SECONDARY_NE_QUAD_XY 566294.687 4150401.037 XY coords. - sec. NE quad cor.*
SECONDARY_SE_QUAD_XY 566349.904 4143467.159 XY coords. - sec. SE quad cor.*
SECONDARY_SW_QUAD_XY 560820.672 4143424.992 XY coords. - sec. SW quad cor.*
RMSE_XY 4.00 doq horiz. accuracy*
IMAGE_SOURCE "BLACK & WHITE FILM" b&w, cir, natural color, other*
SOURCE_IMAGE_ID "GSHR 2 42" source image id*
SOURCE_IMAGE_DATE 1948 9 26 source image date as yyyy mm dd*
SOURCE_IMAGE_ID "GSHR 2 44" source image id*
SOURCE_IMAGE_DATE 1948 9 26 source image date as yyyy mm dd*
SOURCE_IMAGE_ID "GSHR 2 46" source image id*
SOURCE_IMAGE_DATE 1948 9 26 source image date as yyyy mm dd*
SOURCE_IMAGE_ID "GSHR 2 62" source image id*
SOURCE_IMAGE_DATE 1948 9 26 source image date as yyyy mm dd*
SOURCE_IMAGE_ID "GSHR 2 64" source image id*
SOURCE_IMAGE_DATE 1948 9 26 source image date as yyyy mm dd*
SOURCE_DEM_DATE 2001 3 13 source dem date yyyy mm dd*
AGENCY "WESTERN MAPPING CENTER (WMC)" agency or agency & contractor*
PRODUCER "WESTERN MAPPING CENTER (WMC)" producer*
PRODUCTION_SYSTEM "DV2.6.4 1/00 OV2.6 6/00" production system*
STANDARD_VERSION 1996 12 version of DOQ standard*
METADATA_DATE 2001 3 23 date created or changed, yyyy mm dd*
DATA_FILE_SIZE 47609736 data set size in bytes*
BYTE_COUNT 6276 header byte count* * * * * * * * * * * * * * * * * * * * * * * * * * * *
END_USGS_HEADER *
