BEGIN_USGS_DOQ_HEADER *
QUADRANGLE_NAME "NEWARK" 3.45 or 7.5-min. name*
QUADRANT SE quadrant indicator if cell size = 3.75-minutes*
WEST_LONGITUDE -122 3 45.000 signed deg min sec SDDD MM SS.SSS*
EAST_LONGITUDE -122 0 0.000 signed deg min sec SDDD MM SS.SSS*
NORTH_LATITUDE 37 33 45.000 signed deg min sec SDDD MM SS.SSS*
SOUTH_LATITUDE 37 30 0.000 signed deg min sec SDDD MM SS.SSS*
PRODUCTION_DATE 1995 5 31 yyyy mm dd*
RASTER_ORDER LEFT_RIGHT/TOP_BOTTOM video display order*
BAND_ORGANIZATION "SINGLE FILE" single file or BSQ, or BIL or BIP*
BAND_CONTENT BLACK&WHITE black&white or red green blue*
BITS_PER_PIXEL 8 radiometric resolution*
SAMPLES_AND_LINES 6288 7602 number of columns and rows*
HORIZONTAL_DATUM NAD83 primary horizontal datum*
HORIZONTAL_COORDINATE_SYSTEM UTM *
COORDINATE_ZONE 10 coordinate system zone number*
HORIZONTAL_UNITS METERS coordinate system units*
HORIZONTAL_RESOLUTION 1.00 pixel horiz. ground sample distance*
SECONDARY_HORIZONTAL_DATUM NAD27 secondary horizontal datum*
XY_ORIGIN 582402.000 4158046.000 coord. of upper left pixel pri. datum*
SECONDARY_XY_ORIGIN 582498.797 4157849.482 coord upper left pixel sec datum*
NATION US nation code*
STATE CA state fip code*
NW_QUAD_CORNER_XY 582797.535 4157688.267 XY coords. of pri. NW quad corner*
NE_QUAD_CORNER_XY 588317.512 4157745.170 XY coords. of pri. NE quad corner*
SE_QUAD_CORNER_XY 588391.247 4150810.943 XY coords. of pri. SE quad corner*
SW_QUAD_CORNER_XY 582866.661 4150754.073 XY coords. of pri. SW quad corner*
SECONDARY_NW_QUAD_XY 582799.582 4157483.668 XY coords. - sec. NW quad cor.*
SECONDARY_NE_QUAD_XY 588319.695 4157540.572 XY coords. - sec. NE quad cor.*
SECONDARY_SE_QUAD_XY 588393.429 4150606.500 XY coords. - sec. SE quad cor.*
SECONDARY_SW_QUAD_XY 582868.706 4150549.630 XY coords. - sec. SW quad cor.*
RMSE_XY 1.40 doq horiz. accuracy*
IMAGE_SOURCE "BLACK AND WHITE FILM" b&w, cir, natural color, other*
SOURCE_IMAGE_ID "PAPP 8358 707" source image id*
SOURCE_IMAGE_DATE 1993 7 10 source image date as yyyy mm dd*
SOURCE_DEM_DATE 1995 5 31 source dem date yyyy mm dd*
AGENCY "WESTERN MAPPING CENTER (WMC)" oversight agency*
PRODUCER "WMC" producer/contractor*
PRODUCTION_SYSTEM "DV2.5 10/94OV2.3 9/94" production system*
STANDARD_VERSION 1996 12 version of DOQ standard*
METADATA_DATE 1997 6 5 date created or changed, yyyy mm dd*
DATA_FILE_SIZE 47807664 data set size in bytes*
BYTE_COUNT 6288 header byte count* * * * * * * * * * * * * * * * * * * * * * * * * * * * * * * * * * * *
END_USGS_HEADER *
