BEGIN_USGS_DOQ_HEADER *
QUADRANGLE_NAME "REDWOOD POINT" 3.45 or 7.5-min. name*
QUADRANT NE quadrant indicator if cell size = 3.75-minutes*
WEST_LONGITUDE -122 11 15.000 signed deg min sec SDDD MM SS.SSS*
EAST_LONGITUDE -122 7 30.000 signed deg min sec SDDD MM SS.SSS*
NORTH_LATITUDE 37 37 30.000 signed deg min sec SDDD MM SS.SSS*
SOUTH_LATITUDE 37 33 45.000 signed deg min sec SDDD MM SS.SSS*
PRODUCTION_DATE 1995 5 16 yyyy mm dd*
RASTER_ORDER LEFT_RIGHT/TOP_BOTTOM video display order*
BAND_ORGANIZATION "SINGLE FILE" single file or BSQ, or BIL or BIP*
BAND_CONTENT BLACK&WHITE black&white or red green blue*
BITS_PER_PIXEL 8 radiometric resolution*
SAMPLES_AND_LINES 6276 7595 number of columns and rows*
HORIZONTAL_DATUM NAD83 primary horizontal datum*
HORIZONTAL_COORDINATE_SYSTEM UTM *
COORDINATE_ZONE 10 coordinate system zone number*
HORIZONTAL_UNITS METERS coordinate system units*
HORIZONTAL_RESOLUTION 1.00 pixel horiz. ground sample distance*
SECONDARY_HORIZONTAL_DATUM NAD27 secondary horizontal datum*
XY_ORIGIN 571302.000 4164870.000 coord. of upper left pixel pri. datum*
SECONDARY_XY_ORIGIN 571398.755 4164673.486 coord upper left pixel sec datum*
NATION US nation code*
STATE CA state fip code*
NW_QUAD_CORNER_XY 571697.665 4164519.683 XY coords. of pri. NW quad corner*
NE_QUAD_CORNER_XY 577212.976 4164569.271 XY coords. of pri. NE quad corner*
SE_QUAD_CORNER_XY 577277.585 4157635.036 XY coords. of pri. SE quad corner*
SW_QUAD_CORNER_XY 571757.657 4157585.478 XY coords. of pri. SW quad corner*
SECONDARY_NW_QUAD_XY 571699.440 4164314.926 XY coords. - sec. NW quad cor.*
SECONDARY_NE_QUAD_XY 577214.888 4164364.515 XY coords. - sec. NE quad cor.*
SECONDARY_SE_QUAD_XY 577279.495 4157430.436 XY coords. - sec. SE quad cor.*
SECONDARY_SW_QUAD_XY 571759.431 4157380.876 XY coords. - sec. SW quad cor.*
RMSE_XY 1.40 doq horiz. accuracy*
IMAGE_SOURCE "BLACK AND WHITE FILM" b&w, cir, natural color, other*
SOURCE_IMAGE_ID "PAPP 1361 404" source image id*
SOURCE_IMAGE_DATE 1993 7 10 source image date as yyyy mm dd*
SOURCE_DEM_DATE 1995 5 16 source dem date yyyy mm dd*
AGENCY "WESTERN MAPPING CENTER (WMC)" oversight agency*
PRODUCER "WMC" producer/contractor*
PRODUCTION_SYSTEM "DV2.5 10/94OV2.3 9/94" production system*
STANDARD_VERSION 1996 12 version of DOQ standard*
METADATA_DATE 1997 6 4 date created or changed, yyyy mm dd*
DATA_FILE_SIZE 47672496 data set size in bytes*
BYTE_COUNT 6276 header byte count* * * * * * * * * * * * * * * * * * * * * * * * * * * * * * * * * * * *
END_USGS_HEADER *
