BEGIN_USGS_DOQ_HEADER *
QUADRANGLE_NAME "SAN FRANCISCO SOUTH" 3.45 or 7.5-min. name*
QUADRANT SW quadrant indicator if cell size = 3.75-minutes*
WEST_LONGITUDE -122 30 0.000 signed deg min sec SDDD MM SS.SSS*
EAST_LONGITUDE -122 26 15.000 signed deg min sec SDDD MM SS.SSS*
NORTH_LATITUDE 37 41 15.000 signed deg min sec SDDD MM SS.SSS*
SOUTH_LATITUDE 37 37 30.000 signed deg min sec SDDD MM SS.SSS*
PRODUCTION_DATE 1995 5 16 yyyy mm dd*
RASTER_ORDER LEFT_RIGHT/TOP_BOTTOM video display order*
BAND_ORGANIZATION "SINGLE FILE" single file or BSQ, or BIL or BIP*
BAND_CONTENT BLACK&WHITE black&white or red green blue*
BITS_PER_PIXEL 8 radiometric resolution*
SAMPLES_AND_LINES 6248 7576 number of columns and rows*
HORIZONTAL_DATUM NAD83 primary horizontal datum*
HORIZONTAL_COORDINATE_SYSTEM UTM *
COORDINATE_ZONE 10 coordinate system zone number*
HORIZONTAL_UNITS METERS coordinate system units*
HORIZONTAL_RESOLUTION 1.00 pixel horiz. ground sample distance*
SECONDARY_HORIZONTAL_DATUM NAD27 secondary horizontal datum*
XY_ORIGIN 543688.000 4171593.000 coord. of upper left pixel pri. datum*
SECONDARY_XY_ORIGIN 543784.673 4171395.980 coord upper left pixel sec datum*
NATION US nation code*
STATE CA state fip code*
NW_QUAD_CORNER_XY 544084.434 4171261.017 XY coords. of pri. NW quad corner*
NE_QUAD_CORNER_XY 549595.031 4171292.255 XY coords. of pri. NE quad corner*
SE_QUAD_CORNER_XY 549636.622 4164358.070 XY coords. of pri. SE quad corner*
SW_QUAD_CORNER_XY 544121.403 4164326.850 XY coords. of pri. SW quad corner*
SECONDARY_NW_QUAD_XY 544085.528 4171056.101 XY coords. - sec. NW quad cor.*
SECONDARY_NE_QUAD_XY 549596.261 4171087.340 XY coords. - sec. NE quad cor.*
SECONDARY_SE_QUAD_XY 549637.851 4164153.309 XY coords. - sec. SE quad cor.*
SECONDARY_SW_QUAD_XY 544122.496 4164122.089 XY coords. - sec. SW quad cor.*
RMSE_XY 2.10 doq horiz. accuracy*
IMAGE_SOURCE "BLACK AND WHITE FILM" b&w, cir, natural color, other*
SOURCE_IMAGE_ID "PAPP 5365 131" source image id*
SOURCE_IMAGE_DATE 1993 7 10 source image date as yyyy mm dd*
SOURCE_DEM_DATE 1995 5 16 source dem date yyyy mm dd*
AGENCY "WESTERN MAPPING CENTER (WMC)" oversight agency*
PRODUCER "WMC" producer/contractor*
PRODUCTION_SYSTEM "DV2.5 10/94OV2.3 9/94" production system*
STANDARD_VERSION 1996 12 version of DOQ standard*
METADATA_DATE 1997 6 4 date created or changed, yyyy mm dd*
DATA_FILE_SIZE 47341096 data set size in bytes*
BYTE_COUNT 6248 header byte count* * * * * * * * * * * * * * * * * * * * * * * * * * * * * * * * * * * *
END_USGS_HEADER *
