BEGIN_USGS_DOQ_HEADER *
QUADRANGLE_NAME "LAS TRAMPAS RIDGE" 3.45 or 7.5-min. name*
QUADRANT NE quadrant indicator if cell size = 3.75-minutes*
WEST_LONGITUDE -122 3 45.000 signed deg min sec SDDD MM SS.SSS*
EAST_LONGITUDE -122 0 0.000 signed deg min sec SDDD MM SS.SSS*
NORTH_LATITUDE 37 52 30.000 signed deg min sec SDDD MM SS.SSS*
SOUTH_LATITUDE 37 48 45.000 signed deg min sec SDDD MM SS.SSS*
PRODUCTION_DATE 1995 5 15 yyyy mm dd*
RASTER_ORDER LEFT_RIGHT/TOP_BOTTOM video display order*
BAND_ORGANIZATION "SINGLE FILE" single file or BSQ, or BIL or BIP*
BAND_CONTENT BLACK&WHITE black&white or red green blue*
BITS_PER_PIXEL 8 radiometric resolution*
SAMPLES_AND_LINES 6268 7603 number of columns and rows*
HORIZONTAL_DATUM NAD83 primary horizontal datum*
HORIZONTAL_COORDINATE_SYSTEM UTM *
COORDINATE_ZONE 10 coordinate system zone number*
HORIZONTAL_UNITS METERS coordinate system units*
HORIZONTAL_RESOLUTION 1.00 pixel horiz. ground sample distance*
SECONDARY_HORIZONTAL_DATUM NAD27 secondary horizontal datum*
XY_ORIGIN 582055.000 4192718.000 coord. of upper left pixel pri. datum*
SECONDARY_XY_ORIGIN 582151.424 4192521.902 coord upper left pixel sec datum*
NATION US nation code*
STATE CA state fip code*
NW_QUAD_CORNER_XY 582450.426 4192360.310 XY coords. of pri. NW quad corner*
NE_QUAD_CORNER_XY 587947.256 4192417.375 XY coords. of pri. NE quad corner*
SE_QUAD_CORNER_XY 588021.517 4185482.791 XY coords. of pri. SE quad corner*
SW_QUAD_CORNER_XY 582520.045 4185425.758 XY coords. of pri. SW quad corner*
SECONDARY_NW_QUAD_XY 582452.481 4192154.945 XY coords. - sec. NW quad cor.*
SECONDARY_NE_QUAD_XY 587949.447 4192212.011 XY coords. - sec. NE quad cor.*
SECONDARY_SE_QUAD_XY 588023.707 4185277.579 XY coords. - sec. SE quad cor.*
SECONDARY_SW_QUAD_XY 582522.098 4185220.544 XY coords. - sec. SW quad cor.*
RMSE_XY 1.80 doq horiz. accuracy*
IMAGE_SOURCE "BLACK AND WHITE FILM" b&w, cir, natural color, other*
SOURCE_IMAGE_ID "PAPP 8358 717" source image id*
SOURCE_IMAGE_DATE 1993 7 10 source image date as yyyy mm dd*
SOURCE_DEM_DATE 1995 5 15 source dem date yyyy mm dd*
AGENCY "WESTERN MAPPING CENTER (WMC)" oversight agency*
PRODUCER "WMC" producer/contractor*
PRODUCTION_SYSTEM "DV2.5 10/94OV2.3 9/94" production system*
STANDARD_VERSION 1996 12 version of DOQ standard*
METADATA_DATE 1997 6 4 date created or changed, yyyy mm dd*
DATA_FILE_SIZE 47661872 data set size in bytes*
BYTE_COUNT 6268 header byte count* * * * * * * * * * * * * * * * * * * * * * * * * * * * * * * * * * * *
END_USGS_HEADER *
