BEGIN_USGS_DOQ_HEADER *
QUADRANGLE_NAME "RICHMOND" 3.45 or 7.5-min. name*
QUADRANT SW quadrant indicator if cell size = 3.75-minutes*
WEST_LONGITUDE -122 22 30.000 signed deg min sec SDDD MM SS.SSS*
EAST_LONGITUDE -122 18 45.000 signed deg min sec SDDD MM SS.SSS*
NORTH_LATITUDE 37 56 15.000 signed deg min sec SDDD MM SS.SSS*
SOUTH_LATITUDE 37 52 30.000 signed deg min sec SDDD MM SS.SSS*
PRODUCTION_DATE 1995 5 10 yyyy mm dd*
RASTER_ORDER LEFT_RIGHT/TOP_BOTTOM video display order*
BAND_ORGANIZATION "SINGLE FILE" single file or BSQ, or BIL or BIP*
BAND_CONTENT BLACK&WHITE black&white or red green blue*
BITS_PER_PIXEL 8 radiometric resolution*
SAMPLES_AND_LINES 6240 7585 number of columns and rows*
HORIZONTAL_DATUM NAD83 primary horizontal datum*
HORIZONTAL_COORDINATE_SYSTEM UTM *
COORDINATE_ZONE 10 coordinate system zone number*
HORIZONTAL_UNITS METERS coordinate system units*
HORIZONTAL_RESOLUTION 1.00 pixel horiz. ground sample distance*
SECONDARY_HORIZONTAL_DATUM NAD27 secondary horizontal datum*
XY_ORIGIN 554524.000 4199404.000 coord. of upper left pixel pri. datum*
SECONDARY_XY_ORIGIN 554620.435 4199207.511 coord upper left pixel sec datum*
NATION US nation code*
STATE CA state fip code*
NW_QUAD_CORNER_XY 554920.137 4199064.716 XY coords. of pri. NW quad corner*
NE_QUAD_CORNER_XY 560412.213 4199103.391 XY coords. of pri. NE quad corner*
SE_QUAD_CORNER_XY 560463.336 4192168.873 XY coords. of pri. SE quad corner*
SW_QUAD_CORNER_XY 554966.612 4192130.219 XY coords. of pri. SW quad corner*
SECONDARY_NW_QUAD_XY 554921.507 4198859.194 XY coords. - sec. NW quad cor.*
SECONDARY_NE_QUAD_XY 560413.720 4198897.870 XY coords. - sec. NE quad cor.*
SECONDARY_SE_QUAD_XY 560464.842 4191963.503 XY coords. - sec. SE quad cor.*
SECONDARY_SW_QUAD_XY 554967.981 4191924.848 XY coords. - sec. SW quad cor.*
RMSE_XY 1.00 doq horiz. accuracy*
IMAGE_SOURCE "BLACK AND WHITE FILM" b&w, cir, natural color, other*
SOURCE_IMAGE_ID "PAPP 5365 686" source image id*
SOURCE_IMAGE_DATE 1993 7 10 source image date as yyyy mm dd*
SOURCE_DEM_DATE 1995 5 10 source dem date yyyy mm dd*
AGENCY "WESTERN MAPPING CENTER (WMC)" oversight agency*
PRODUCER "WMC" producer/contractor*
PRODUCTION_SYSTEM "DV2.5 10/94OV2.3 9/94" production system*
STANDARD_VERSION 1996 12 version of DOQ standard*
METADATA_DATE 1997 6 5 date created or changed, yyyy mm dd*
DATA_FILE_SIZE 47336640 data set size in bytes*
BYTE_COUNT 6240 header byte count* * * * * * * * * * * * * * * * * * * * * * * * * * * * * * * * * * *
END_USGS_HEADER *
