BEGIN_USGS_DOQ_HEADER *
QUADRANGLE_NAME "BOLINAS" 3.45 or 7.5-min. name*
QUADRANT SW quadrant indicator if cell size = 3.75-minutes*
WEST_LONGITUDE -122 45 0.000 signed deg min sec SDDD MM SS.SSS*
EAST_LONGITUDE -122 41 15.000 signed deg min sec SDDD MM SS.SSS*
NORTH_LATITUDE 37 56 15.000 signed deg min sec SDDD MM SS.SSS*
SOUTH_LATITUDE 37 52 30.000 signed deg min sec SDDD MM SS.SSS*
PRODUCTION_DATE 1995 2 22 yyyy mm dd*
RASTER_ORDER LEFT_RIGHT/TOP_BOTTOM video display order*
BAND_ORGANIZATION "SINGLE FILE" single file or BSQ, or BIL or BIP*
BAND_CONTENT BLACK&WHITE black&white or red green blue*
BITS_PER_PIXEL 8 radiometric resolution*
SAMPLES_AND_LINES 6212 7563 number of columns and rows*
HORIZONTAL_DATUM NAD83 primary horizontal datum*
HORIZONTAL_COORDINATE_SYSTEM UTM *
COORDINATE_ZONE 10 coordinate system zone number*
HORIZONTAL_UNITS METERS coordinate system units*
HORIZONTAL_RESOLUTION 1.00 pixel horiz. ground sample distance*
SECONDARY_HORIZONTAL_DATUM NAD27 secondary horizontal datum*
XY_ORIGIN 521570.000 4199228.000 coord. of upper left pixel pri. datum*
SECONDARY_XY_ORIGIN 521667.000 4199031.000 coord upper left pixel sec datum*
NATION US nation code*
STATE CA state fip code*
NW_QUAD_CORNER_XY 521967.960 4198910.020 XY coords. of pri. NW quad corner*
NE_QUAD_CORNER_XY 527459.970 4198926.590 XY coords. of pri. NE quad corner*
SE_QUAD_CORNER_XY 527483.200 4191992.170 XY coords. of pri. SE quad corner*
SW_QUAD_CORNER_XY 521986.550 4191975.610 XY coords. of pri. SW quad corner*
SECONDARY_NW_QUAD_XY 521968.510 4198704.490 XY coords. - sec. NW quad cor.*
SECONDARY_NE_QUAD_XY 527460.650 4198721.070 XY coords. - sec. NE quad cor.*
SECONDARY_SE_QUAD_XY 527483.890 4191786.800 XY coords. - sec. SE quad cor.*
SECONDARY_SW_QUAD_XY 521987.100 4191770.230 XY coords. - sec. SW quad cor.*
RMSE_XY 2.70 doq horiz. accuracy*
IMAGE_SOURCE "BLACK AND WHITE FILM" b&w, cir, natural color, other*
SOURCE_IMAGE_ID "PAPP 4364 282" source image id*
SOURCE_IMAGE_DATE 1993 8 25 source image date as yyyy mm dd*
SOURCE_DEM_DATE 1995 2 22 source dem date yyyy mm dd*
AGENCY "WESTERN MAPPING CENTER (WMC)" oversight agency*
PRODUCER "WMC" producer/contractor*
PRODUCTION_SYSTEM "DV2.5 10/94OV2.3 9/94" production system*
STANDARD_VERSION 1996 12 version of DOQ standard*
METADATA_DATE 1997 6 5 date created or changed, yyyy mm dd*
DATA_FILE_SIZE 46987568 data set size in bytes*
BYTE_COUNT 6212 header byte count* * * * * * * * * * * * * * * * * * * * * * * * * * * * * * * * * * *
END_USGS_HEADER *
