BEGIN_USGS_DOQ_HEADER *
QUADRANGLE_NAME "WEST OF HUNTOON SPRING" *
QUADRANT NE *
WEST_LONGITUDE -118 41 15.000 *
EAST_LONGITUDE -118 37 30.000 *
NORTH_LATITUDE 38 7 30.000 *
SOUTH_LATITUDE 38 3 45.000 *
PRODUCTION_DATE 2001 12 19 *
RASTER_ORDER LEFT_RIGHT/TOP_BOTTOM *
BAND_ORGANIZATION "SINGLE FILE" *
BAND_CONTENT BLACK&WHITE *
BITS_PER_PIXEL 8 *
SAMPLES_AND_LINES 6290 7640 *
HORIZONTAL_DATUM NAD83 *
HORIZONTAL_COORDINATE_SYSTEM UTM *
COORDINATE_ZONE 11 *
HORIZONTAL_UNITS METERS *
HORIZONTAL_RESOLUTION 1.0 *
SECONDARY_HORIZONTAL_DATUM NAD27 *
XY_ORIGIN 351577.765 4221329.156 *
SECONDARY_XY_ORIGIN 351659.013 4221129.748 *
NATION US *
STATE NV *
STATE CA *
NW_QUAD_CORNER_XY 352088.710 4221029.156 *
NE_QUAD_CORNER_XY 357567.265 4220931.355 *
SE_QUAD_CORNER_XY 357445.881 4213996.066 *
SW_QUAD_CORNER_XY 351962.653 4214093.815 *
SECONDARY_NW_QUAD_XY 352085.003 4220823.216 *
SECONDARY_NE_QUAD_XY 357563.696 4220725.413 *
SECONDARY_SE_QUAD_XY 357442.314 4213790.273 *
SECONDARY_SW_QUAD_XY 351958.949 4213888.024 *
RMSE_XY 1.52 *
IMAGE_SOURCE "BLACK AND WHITE FILM" *
SOURCE_IMAGE_ID "NAPP 10562 31" *
SOURCE_IMAGE_DATE 1998 9 17 *
SOURCE_IMAGE_ID "NAPP 10562 32" *
SOURCE_IMAGE_DATE 1998 9 17 *
SOURCE_IMAGE_ID "NAPP 10562 30" *
SOURCE_IMAGE_DATE 1998 9 17 *
SOURCE_IMAGE_ID "NAPP 10562 19" *
SOURCE_IMAGE_DATE 1998 9 17 *
SOURCE_IMAGE_ID "NAPP 10562 20" *
SOURCE_IMAGE_DATE 1998 9 17 *
SOURCE_IMAGE_ID "NAPP 10562 21" *
SOURCE_IMAGE_DATE 1998 9 17 *
SOURCE_IMAGE_ID "NAPP 10562 77" *
SOURCE_IMAGE_DATE 1998 9 17 *
SOURCE_IMAGE_ID "NAPP 10562 78" *
SOURCE_IMAGE_DATE 1998 9 17 *
SOURCE_IMAGE_ID "NAPP 10562 79" *
SOURCE_IMAGE_DATE 1998 9 17 *
SOURCE_DEM_DATE 2000 0 0 *
AGENCY "WESTERN MAPPING CENTER (WMC)" *
PRODUCER "USDA FS GEOSPATIAL SERVICE AND TECHNOLOGY CENTER" *
PRODUCTION_SYSTEM "ORBIT OR_RECTIFY V.5.2" *
STANDARD_VERSION 1996 12 *
METADATA_DATE 2001 12 31 *
DATA_FILE_SIZE 48061890 *
BYTE_COUNT 6290 * * * * * * * * * * * * * * * * * * *
END_USGS_HEADER *
