BEGIN_USGS_DOQ_HEADER *
QUADRANGLE_NAME "WEST OF HUNTOON SPRING" 3.45 or 7.5-min. name*
QUADRANT SW quadrant indicator if cell size = 3.75-minutes*
WEST_LONGITUDE -118 45 0.000 signed deg min sec SDDD MM SS.SSS*
EAST_LONGITUDE -118 41 15.000 signed deg min sec SDDD MM SS.SSS*
NORTH_LATITUDE 38 3 45.000 signed deg min sec SDDD MM SS.SSS*
SOUTH_LATITUDE 38 0 0.000 signed deg min sec SDDD MM SS.SSS*
PRODUCTION_DATE 1998 5 5 yyyy mm dd*
RASTER_ORDER LEFT_RIGHT/TOP_BOTTOM video display order*
BAND_ORGANIZATION "SINGLE FILE" single file or BSQ, or BIL or BIP*
BAND_CONTENT BLACK&WHITE black&white or red green blue*
BITS_PER_PIXEL 8 radiometric resolution*
SAMPLES_AND_LINES 6302 7646 number of columns and rows*
HORIZONTAL_DATUM NAD83 primary horizontal datum*
HORIZONTAL_COORDINATE_SYSTEM UTM *
COORDINATE_ZONE 11 coordinate system zone number*
HORIZONTAL_UNITS METERS coordinate system units*
HORIZONTAL_RESOLUTION 1.00 pixel horiz. ground sample distance*
SECONDARY_HORIZONTAL_DATUM NAD27 secondary horizontal datum*
XY_ORIGIN 345962.000 4214496.000 coord. of upper left pixel pri. datum*
SECONDARY_XY_ORIGIN 346043.204 4214296.643 coord upper left pixel sec datum*
NATION US nation code*
STATE CA state fip code*
NW_QUAD_CORNER_XY 346479.383 4214195.254 XY coords. of pri. NW quad corner*
NE_QUAD_CORNER_XY 351962.653 4214093.815 XY coords. of pri. NE quad corner*
SE_QUAD_CORNER_XY 351836.773 4207158.541 XY coords. of pri. SE quad corner*
SW_QUAD_CORNER_XY 346348.837 4207259.926 XY coords. of pri. SW quad corner*
SECONDARY_NW_QUAD_XY 346475.539 4213989.465 XY coords. - sec. NW quad cor.*
SECONDARY_NE_QUAD_XY 351958.947 4213888.023 XY coords. - sec. NE quad cor.*
SECONDARY_SE_QUAD_XY 351833.070 4206952.898 XY coords. - sec. SE quad cor.*
SECONDARY_SW_QUAD_XY 346344.996 4207054.286 XY coords. - sec. SW quad cor.*
RMSE_XY 1.70 doq horiz. accuracy*
IMAGE_SOURCE "BLACK AND WHITE FILM" b&w, cir, natural color, other*
SOURCE_IMAGE_ID "NAPP 6309 221" source image id*
SOURCE_IMAGE_DATE 1993 09 25 source image date as yyyy mm dd*
IMAGE_SOURCE "BLACK AND WHITE FILM" b&w, cir, natural color, other*
SOURCE_IMAGE_ID "NAPP 6310 008" source image id*
SOURCE_IMAGE_DATE 1993 09 25 source image date as yyyy mm dd*
IMAGE_SOURCE "BLACK AND WHITE FILM" b&w, cir, natural color, other*
SOURCE_IMAGE_ID "NAPP 6307 144" source image id*
SOURCE_IMAGE_DATE 1993 07 19 source image date as yyyy mm dd*
SOURCE_DEM_DATE 1997 01 01 source dem date yyyy mm dd*
AGENCY "WESTERN MAPPING CENTER (WMC)" oversight agency*
PRODUCER "SCIENCE APPLICATIONS INTERNATIONAL" producer/contractor*
PRODUCTION_SYSTEM "GIS/MAGIC" production system*
STANDARD_VERSION 1996 12 version of DOQ standard*
METADATA_DATE 1998 06 16 date created or changed, yyyy mm dd*
DATA_FILE_SIZE 48191394 data set size in bytes*
BYTE_COUNT 6302 header byte count* * * * * * * * * * * * * * * * * * * * * * * * * * * * * *
END_USGS_HEADER *
