BEGIN_USGS_DOQ_HEADER *
QUADRANGLE_NAME "ALAMEDA WELL" *
QUADRANT SE *
WEST_LONGITUDE -118 48 45.000 *
EAST_LONGITUDE -118 45 0.000 *
NORTH_LATITUDE 38 3 45.000 *
SOUTH_LATITUDE 38 0 0.000 *
PRODUCTION_DATE 2001 12 3 *
RASTER_ORDER LEFT_RIGHT/TOP_BOTTOM *
BAND_ORGANIZATION "SINGLE FILE" *
BAND_CONTENT BLACK&WHITE *
BITS_PER_PIXEL 8 *
SAMPLES_AND_LINES 6304 7647 *
HORIZONTAL_DATUM NAD83 *
HORIZONTAL_COORDINATE_SYSTEM UTM *
COORDINATE_ZONE 11 *
HORIZONTAL_UNITS METERS *
HORIZONTAL_RESOLUTION 1.0 *
SECONDARY_HORIZONTAL_DATUM NAD27 *
XY_ORIGIN 340475.605 4214600.386 *
SECONDARY_XY_ORIGIN 340556.903 4214401.114 *
NATION US *
STATE CA *
NW_QUAD_CORNER_XY 340996.069 4214300.386 *
NE_QUAD_CORNER_XY 346479.383 4214195.254 *
SE_QUAD_CORNER_XY 346348.837 4207259.926 *
SW_QUAD_CORNER_XY 340860.856 4207365.000 *
SECONDARY_NW_QUAD_XY 340992.091 4214094.602 *
SECONDARY_NE_QUAD_XY 346475.542 4213989.468 *
SECONDARY_SE_QUAD_XY 346345.000 4207054.287 *
SECONDARY_SW_QUAD_XY 340856.882 4207159.364 *
RMSE_XY 1.09 *
IMAGE_SOURCE "BLACK AND WHITE FILM" *
SOURCE_IMAGE_ID "NAPP 10557 9" *
SOURCE_IMAGE_DATE 1998 8 29 *
SOURCE_IMAGE_ID "NAPP 10557 10" *
SOURCE_IMAGE_DATE 1998 8 29 *
SOURCE_IMAGE_ID "NAPP 10557 8" *
SOURCE_IMAGE_DATE 1998 8 29 *
SOURCE_IMAGE_ID "NAPP 10556 231" *
SOURCE_IMAGE_DATE 1998 8 26 *
SOURCE_IMAGE_ID "NAPP 10556 230" *
SOURCE_IMAGE_DATE 1998 8 26 *
SOURCE_IMAGE_ID "NAPP 10556 229" *
SOURCE_IMAGE_DATE 1998 8 26 *
SOURCE_IMAGE_ID "NAPP 10562 17" *
SOURCE_IMAGE_DATE 1998 9 17 *
SOURCE_IMAGE_ID "NAPP 10562 18" *
SOURCE_IMAGE_DATE 1998 9 17 *
SOURCE_IMAGE_ID "NAPP 10562 19" *
SOURCE_IMAGE_DATE 1998 9 17 *
SOURCE_DEM_DATE 1997 0 0 *
AGENCY "WESTERN MAPPING CENTER (WMC)" *
PRODUCER "USDA FS GEOSPATIAL SERVICE AND TECHNOLOGY CENTER" *
PRODUCTION_SYSTEM "ORBIT OR_RECTIFY V.5.2" *
STANDARD_VERSION 1996 12 *
METADATA_DATE 2002 1 2 *
DATA_FILE_SIZE 48212992 *
BYTE_COUNT 6304 * * * * * * * * * * * * * * * * * * * *
END_USGS_HEADER *
