BEGIN_USGS_DOQ_HEADER *
QUADRANGLE_NAME "HUNTOON VALLEY" *
QUADRANT SE *
WEST_LONGITUDE -118 33 45.000 *
EAST_LONGITUDE -118 30 0.000 *
NORTH_LATITUDE 38 11 15.000 *
SOUTH_LATITUDE 38 7 30.000 *
PRODUCTION_DATE 2003 1 30 *
RASTER_ORDER LEFT_RIGHT/TOP_BOTTOM *
BAND_ORGANIZATION "SINGLE FILE" *
BAND_CONTENT BLACK&WHITE *
BITS_PER_PIXEL 8 *
SAMPLES_AND_LINES 6275 7632 *
HORIZONTAL_DATUM NAD83 *
HORIZONTAL_COORDINATE_SYSTEM UTM *
COORDINATE_ZONE 11 *
HORIZONTAL_UNITS METERS *
HORIZONTAL_RESOLUTION 1.0 *
SECONDARY_HORIZONTAL_DATUM NAD27 *
XY_ORIGIN 362661.156 4228072.553 *
SECONDARY_XY_ORIGIN 362742.400 4227873.172 *
NATION US *
STATE NV *
NW_QUAD_CORNER_XY 363162.656 4227772.553 *
NE_QUAD_CORNER_XY 368636.453 4227682.090 *
SE_QUAD_CORNER_XY 368524.255 4220746.832 *
SW_QUAD_CORNER_XY 363045.780 4220837.247 *
SECONDARY_NW_QUAD_XY 363159.221 4227566.461 *
SECONDARY_NE_QUAD_XY 368633.156 4227475.996 *
SECONDARY_SE_QUAD_XY 368520.961 4220540.886 *
SECONDARY_SW_QUAD_XY 363042.348 4220631.303 *
RMSE_XY 1.39 *
IMAGE_SOURCE "BLACK AND WHITE FILM" *
SOURCE_IMAGE_ID "NAPP 11543 68" *
SOURCE_IMAGE_DATE 1999 9 4 *
SOURCE_IMAGE_ID "NAPP 11543 69" *
SOURCE_IMAGE_DATE 1999 9 4 *
SOURCE_IMAGE_ID "NAPP 11543 67" *
SOURCE_IMAGE_DATE 1999 9 4 *
SOURCE_IMAGE_ID "NAPP 11542 185" *
SOURCE_IMAGE_DATE 1999 9 4 *
SOURCE_IMAGE_ID "NAPP 11542 186" *
SOURCE_IMAGE_DATE 1999 9 4 *
SOURCE_IMAGE_ID "NAPP 11542 187" *
SOURCE_IMAGE_DATE 1999 9 4 *
SOURCE_IMAGE_ID "NAPP 11536 21" *
SOURCE_IMAGE_DATE 1999 9 4 *
SOURCE_IMAGE_ID "NAPP 11536 22" *
SOURCE_IMAGE_DATE 1999 9 4 *
SOURCE_IMAGE_ID "NAPP 11536 23" *
SOURCE_IMAGE_DATE 1999 9 4 *
SOURCE_DEM_DATE 2003 1 1 *
AGENCY "WESTERN MAPPING CENTER (WMC)" *
PRODUCER "USDA FS GEOSPATIAL SERVICE AND TECHNOLOGY CENTER" *
PRODUCTION_SYSTEM "ORBIT OR_RECTIFY V.5.2" *
STANDARD_VERSION 1996 12 *
METADATA_DATE 2003 3 18 *
DATA_FILE_SIZE 47897075 *
BYTE_COUNT 6275 * * * * * * * * * * * * * * * * * * * *
END_USGS_HEADER *
