BEGIN_USGS_DOQ_HEADER *
QUADRANGLE_NAME "ANCHORITE HILLS" *
QUADRANT SW *
WEST_LONGITUDE -118 45 0.000 *
EAST_LONGITUDE -118 41 15.000 *
NORTH_LATITUDE 38 11 15.000 *
SOUTH_LATITUDE 38 7 30.000 *
PRODUCTION_DATE 2001 12 19 *
RASTER_ORDER LEFT_RIGHT/TOP_BOTTOM *
BAND_ORGANIZATION "SINGLE FILE" *
BAND_CONTENT BLACK&WHITE *
BITS_PER_PIXEL 8 *
SAMPLES_AND_LINES 6290 7643 *
HORIZONTAL_DATUM NAD83 *
HORIZONTAL_COORDINATE_SYSTEM UTM *
COORDINATE_ZONE 11 *
HORIZONTAL_UNITS METERS *
HORIZONTAL_RESOLUTION 1.0 *
SECONDARY_HORIZONTAL_DATUM NAD27 *
XY_ORIGIN 346224.999 4228366.113 *
SECONDARY_XY_ORIGIN 346306.333 4228166.639 *
NATION US *
STATE NV *
STATE CA *
NW_QUAD_CORNER_XY 346741.025 4228066.113 *
NE_QUAD_CORNER_XY 352214.943 4227964.564 *
SE_QUAD_CORNER_XY 352088.710 4221029.156 *
SW_QUAD_CORNER_XY 346610.112 4221130.650 *
SECONDARY_NW_QUAD_XY 346737.177 4227860.032 *
SECONDARY_NE_QUAD_XY 352211.233 4227758.478 *
SECONDARY_SE_QUAD_XY 352085.003 4220823.216 *
SECONDARY_SW_QUAD_XY 346606.268 4220924.716 *
RMSE_XY 1.52 *
IMAGE_SOURCE "BLACK AND WHITE FILM" *
SOURCE_IMAGE_ID "NAPP 10562 22" *
SOURCE_IMAGE_DATE 1998 9 17 *
SOURCE_IMAGE_ID "NAPP 10562 21" *
SOURCE_IMAGE_DATE 1998 9 17 *
SOURCE_IMAGE_ID "NAPP 10562 23" *
SOURCE_IMAGE_DATE 1998 9 17 *
SOURCE_IMAGE_ID "NAPP 10557 6" *
SOURCE_IMAGE_DATE 1998 8 29 *
SOURCE_IMAGE_ID "NAPP 10557 5" *
SOURCE_IMAGE_DATE 1998 8 29 *
SOURCE_IMAGE_ID "NAPP 10557 4" *
SOURCE_IMAGE_DATE 1998 8 29 *
SOURCE_IMAGE_ID "NAPP 10562 30" *
SOURCE_IMAGE_DATE 1998 9 17 *
SOURCE_IMAGE_ID "NAPP 10562 29" *
SOURCE_IMAGE_DATE 1998 9 17 *
SOURCE_IMAGE_ID "NAPP 10562 28" *
SOURCE_IMAGE_DATE 1998 9 17 *
SOURCE_DEM_DATE 2000 0 0 *
AGENCY "WESTERN MAPPING CENTER (WMC)" *
PRODUCER "USDA FS GEOSPATIAL SERVICE AND TECHNOLOGY CENTER" *
PRODUCTION_SYSTEM "ORBIT OR_RECTIFY V.5.2" *
STANDARD_VERSION 1996 12 *
METADATA_DATE 2001 12 31 *
DATA_FILE_SIZE 48080760 *
BYTE_COUNT 6290 * * * * * * * * * * * * * * * * * * *
END_USGS_HEADER *
