BEGIN_USGS_DOQ_HEADER *
QUADRANGLE_NAME "KIRKWOOD SPRING" 3.45 or 7.5-min. name*
QUADRANT SW quadrant indicator if cell size = 3.75-minutes*
WEST_LONGITUDE -119 0 0.000 signed deg min sec SDDD MM SS.SSS*
EAST_LONGITUDE -118 56 15.000 signed deg min sec SDDD MM SS.SSS*
NORTH_LATITUDE 38 11 15.000 signed deg min sec SDDD MM SS.SSS*
SOUTH_LATITUDE 38 7 30.000 signed deg min sec SDDD MM SS.SSS*
PRODUCTION_DATE 1999 10 14 yyyy mm dd*
RASTER_ORDER LEFT_RIGHT/TOP_BOTTOM video display order*
BAND_ORGANIZATION "SINGLE FILE" single file or BSQ, or BIL or BIP*
BAND_CONTENT BLACK&WHITE black&white or red green blue*
BITS_PER_PIXEL 8 radiometric resolution*
SAMPLES_AND_LINES 6313 7662 number of columns and rows*
HORIZONTAL_DATUM NAD83 primary horizontal datum*
HORIZONTAL_COORDINATE_SYSTEM UTM *
COORDINATE_ZONE 11 coordinate system zone number*
HORIZONTAL_UNITS METERS coordinate system units*
HORIZONTAL_RESOLUTION 1.00 pixel horiz. ground sample distance*
SECONDARY_HORIZONTAL_DATUM NAD27 secondary horizontal datum*
XY_ORIGIN 324308.000 4228810.000 coord. of upper left pixel pri. datum*
SECONDARY_XY_ORIGIN 324389.287 4228611.121 coord upper left pixel sec datum*
NATION US nation code*
STATE CA state fip code*
NW_QUAD_CORNER_XY 324844.902 4228509.270 XY coords. of pri. NW quad corner*
NE_QUAD_CORNER_XY 330319.003 4228392.936 XY coords. of pri. NE quad corner*
SE_QUAD_CORNER_XY 330174.051 4221457.299 XY coords. of pri. SE quad corner*
SW_QUAD_CORNER_XY 324695.268 4221573.571 XY coords. of pri. SW quad corner*
SECONDARY_NW_QUAD_XY 324840.502 4228303.197 XY coords. - sec. NW quad cor.*
SECONDARY_NE_QUAD_XY 330314.741 4228186.860 XY coords. - sec. NE quad cor.*
SECONDARY_SE_QUAD_XY 330169.792 4221251.370 XY coords. - sec. SE quad cor.*
SECONDARY_SW_QUAD_XY 324690.872 4221367.645 XY coords. - sec. SW quad cor.*
RMSE_XY 2.00 doq horiz. accuracy*
IMAGE_SOURCE "BLACK AND WHITE FILM" b&w, cir, natural color, other*
SOURCE_IMAGE_ID "NAPP 6307 088" source image id*
SOURCE_IMAGE_DATE 1993 07 19 source image date as yyyy mm dd*
SOURCE_DEM_DATE 1989 00 00 source dem date yyyy mm dd*
AGENCY "WESTERN MAPPING CENTER (WMC)" oversight agency*
PRODUCER "SCIENCE APPLICATIONS INTERNATIONAL" producer/contractor*
PRODUCTION_SYSTEM "GIS/MAGIC" production system*
STANDARD_VERSION 1996 12 version of DOQ standard*
METADATA_DATE 1999 10 20 date created or changed, yyyy mm dd*
DATA_FILE_SIZE 48376519 data set size in bytes*
BYTE_COUNT 6313 header byte count* * * * * * * * * * * * * * * * * * * * * * * * * * * * * * * * * * * *
END_USGS_HEADER *
