BEGIN_USGS_DOQ_HEADER *
QUADRANGLE_NAME "MOUNT HICKS" *
QUADRANT NE *
WEST_LONGITUDE -118 48 45.000 *
EAST_LONGITUDE -118 45 0.000 *
NORTH_LATITUDE 38 22 30.000 *
SOUTH_LATITUDE 38 18 45.000 *
PRODUCTION_DATE 2003 1 30 *
RASTER_ORDER LEFT_RIGHT/TOP_BOTTOM *
BAND_ORGANIZATION "SINGLE FILE" *
BAND_CONTENT BLACK&WHITE *
BITS_PER_PIXEL 8 *
SAMPLES_AND_LINES 6281 7648 *
HORIZONTAL_DATUM NAD83 *
HORIZONTAL_COORDINATE_SYSTEM UTM *
COORDINATE_ZONE 11 *
HORIZONTAL_UNITS METERS *
HORIZONTAL_RESOLUTION 1.0 *
SECONDARY_HORIZONTAL_DATUM NAD27 *
XY_ORIGIN 341153.592 4249278.315 *
SECONDARY_XY_ORIGIN 341234.718 4249078.790 *
NATION US *
STATE NV *
NW_QUAD_CORNER_XY 341674.975 4248978.315 *
NE_QUAD_CORNER_XY 347134.859 4248872.905 *
SE_QUAD_CORNER_XY 347003.398 4241937.240 *
SW_QUAD_CORNER_XY 341538.815 4242042.596 *
SECONDARY_NW_QUAD_XY 341670.981 4248771.799 *
SECONDARY_NE_QUAD_XY 347131.003 4248666.386 *
SECONDARY_SE_QUAD_XY 346999.544 4241730.867 *
SECONDARY_SW_QUAD_XY 341534.824 4241836.225 *
RMSE_XY 1.39 *
IMAGE_SOURCE "BLACK AND WHITE FILM" *
SOURCE_IMAGE_ID "NAPP 11559 98" *
SOURCE_IMAGE_DATE 1999 9 27 *
SOURCE_IMAGE_ID "NAPP 11559 97" *
SOURCE_IMAGE_DATE 1999 9 27 *
SOURCE_IMAGE_ID "NAPP 11559 99" *
SOURCE_IMAGE_DATE 1999 9 27 *
SOURCE_IMAGE_ID "NAPP 11559 75" *
SOURCE_IMAGE_DATE 1999 9 27 *
SOURCE_IMAGE_ID "NAPP 11559 76" *
SOURCE_IMAGE_DATE 1999 9 27 *
SOURCE_IMAGE_ID "NAPP 11559 77" *
SOURCE_IMAGE_DATE 1999 9 27 *
SOURCE_IMAGE_ID "NAPP 11559 66" *
SOURCE_IMAGE_DATE 1999 9 27 *
SOURCE_IMAGE_ID "NAPP 11559 65" *
SOURCE_IMAGE_DATE 1999 9 27 *
SOURCE_IMAGE_ID "NAPP 11559 64" *
SOURCE_IMAGE_DATE 1999 9 27 *
SOURCE_DEM_DATE 2003 1 1 *
AGENCY "WESTERN MAPPING CENTER (WMC)" *
PRODUCER "USDA FS GEOSPATIAL SERVICE AND TECHNOLOGY CENTER" *
PRODUCTION_SYSTEM "ORBIT OR_RECTIFY V.5.2" *
STANDARD_VERSION 1996 12 *
METADATA_DATE 2003 3 18 *
DATA_FILE_SIZE 48043369 *
BYTE_COUNT 6281 * * * * * * * * * * * * * * * * * * * *
END_USGS_HEADER *
