BEGIN_USGS_DOQ_HEADER *
QUADRANGLE_NAME "AURORA" 3.45 or 7.5-min. name*
QUADRANT SE quadrant indicator if cell size = 3.75-minutes*
WEST_LONGITUDE -118 56 15.000 signed deg min sec SDDD MM SS.SSS*
EAST_LONGITUDE -118 52 30.000 signed deg min sec SDDD MM SS.SSS*
NORTH_LATITUDE 38 18 45.000 signed deg min sec SDDD MM SS.SSS*
SOUTH_LATITUDE 38 15 0.000 signed deg min sec SDDD MM SS.SSS*
PRODUCTION_DATE 1999 10 18 yyyy mm dd*
RASTER_ORDER LEFT_RIGHT/TOP_BOTTOM video display order*
BAND_ORGANIZATION "SINGLE FILE" single file or BSQ, or BIL or BIP*
BAND_CONTENT BLACK&WHITE black&white or red green blue*
BITS_PER_PIXEL 8 radiometric resolution*
SAMPLES_AND_LINES 6299 7659 number of columns and rows*
HORIZONTAL_DATUM NAD83 primary horizontal datum*
HORIZONTAL_COORDINATE_SYSTEM UTM *
COORDINATE_ZONE 11 coordinate system zone number*
HORIZONTAL_UNITS METERS coordinate system units*
HORIZONTAL_RESOLUTION 1.00 pixel horiz. ground sample distance*
SECONDARY_HORIZONTAL_DATUM NAD27 secondary horizontal datum*
XY_ORIGIN 330077.000 4242565.000 coord. of upper left pixel pri. datum*
SECONDARY_XY_ORIGIN 330158.139 4242365.895 coord upper left pixel sec datum*
NATION US nation code*
STATE NV state fip code*
STATE CA state fip code*
NW_QUAD_CORNER_XY 330609.516 4242264.407 XY coords. of pri. NW quad corner*
NE_QUAD_CORNER_XY 336074.188 4242151.651 XY coords. of pri. NE quad corner*
SE_QUAD_CORNER_XY 335933.524 4235215.942 XY coords. of pri. SE quad corner*
SW_QUAD_CORNER_XY 330464.158 4235328.639 XY coords. of pri. SW quad corner*
SECONDARY_NW_QUAD_XY 330605.247 4242058.039 XY coords. - sec. NW quad cor.*
SECONDARY_NE_QUAD_XY 336070.058 4241945.280 XY coords. - sec. NE quad cor.*
SECONDARY_SE_QUAD_XY 335929.397 4235009.716 XY coords. - sec. SE quad cor.*
SECONDARY_SW_QUAD_XY 330459.893 4235122.416 XY coords. - sec. SW quad cor.*
RMSE_XY 1.70 doq horiz. accuracy*
IMAGE_SOURCE "BLACK AND WHITE FILM" b&w, cir, natural color, other*
SOURCE_IMAGE_ID "NAPP 6307 115" source image id*
SOURCE_IMAGE_DATE 1993 07 19 source image date as yyyy mm dd*
IMAGE_SOURCE "BLACK AND WHITE FILM" b&w, cir, natural color, other*
SOURCE_IMAGE_ID "NAPP 6307 085" source image id*
SOURCE_IMAGE_DATE 1993 07 19 source image date as yyyy mm dd*
IMAGE_SOURCE "BLACK AND WHITE FILM" b&w, cir, natural color, other*
SOURCE_IMAGE_ID "NAPP 6307 114" source image id*
SOURCE_IMAGE_DATE 1993 07 19 source image date as yyyy mm dd*
IMAGE_SOURCE "BLACK AND WHITE FILM" b&w, cir, natural color, other*
SOURCE_IMAGE_ID "NAPP 6307 116" source image id*
SOURCE_IMAGE_DATE 1993 07 19 source image date as yyyy mm dd*
SOURCE_DEM_DATE 1989 00 00 source dem date yyyy mm dd*
AGENCY "WESTERN MAPPING CENTER (WMC)" oversight agency*
PRODUCER "SCIENCE APPLICATIONS INTERNATIONAL" producer/contractor*
PRODUCTION_SYSTEM "GIS/MAGIC" production system*
STANDARD_VERSION 1996 12 version of DOQ standard*
METADATA_DATE 1999 11 29 date created or changed, yyyy mm dd*
DATA_FILE_SIZE 48250340 data set size in bytes*
BYTE_COUNT 6299 header byte count* * * * * * * * * * * * * * * * * * * * * * * * * *
END_USGS_HEADER *
