BEGIN_USGS_DOQ_HEADER *
QUADRANGLE_NAME "AURORA" *
QUADRANT SE *
WEST_LONGITUDE -118 56 15.000 *
EAST_LONGITUDE -118 52 30.000 *
NORTH_LATITUDE 38 18 45.000 *
SOUTH_LATITUDE 38 15 0.000 *
PRODUCTION_DATE 2003 1 30 *
RASTER_ORDER LEFT_RIGHT/TOP_BOTTOM *
BAND_ORGANIZATION "SINGLE FILE" *
BAND_CONTENT BLACK&WHITE *
BITS_PER_PIXEL 8 *
SAMPLES_AND_LINES 6296 7656 *
HORIZONTAL_DATUM NAD83 *
HORIZONTAL_COORDINATE_SYSTEM UTM *
COORDINATE_ZONE 11 *
HORIZONTAL_UNITS METERS *
HORIZONTAL_RESOLUTION 1.0 *
SECONDARY_HORIZONTAL_DATUM NAD27 *
XY_ORIGIN 330078.688 4242564.408 *
SECONDARY_XY_ORIGIN 330159.836 4242365.300 *
NATION US *
STATE NV *
STATE CA *
NW_QUAD_CORNER_XY 330609.516 4242264.408 *
NE_QUAD_CORNER_XY 336074.188 4242151.652 *
SE_QUAD_CORNER_XY 335933.524 4235215.942 *
SW_QUAD_CORNER_XY 330464.158 4235328.639 *
SECONDARY_NW_QUAD_XY 330605.249 4242058.042 *
SECONDARY_NE_QUAD_XY 336070.059 4241945.283 *
SECONDARY_SE_QUAD_XY 335929.398 4235009.720 *
SECONDARY_SW_QUAD_XY 330459.894 4235122.420 *
RMSE_XY 1.76 *
IMAGE_SOURCE "BLACK AND WHITE FILM" *
SOURCE_IMAGE_ID "NAPP 11552 35" *
SOURCE_IMAGE_DATE 1999 9 9 *
SOURCE_IMAGE_ID "NAPP 11552 34" *
SOURCE_IMAGE_DATE 1999 9 9 *
SOURCE_IMAGE_ID "NAPP 11552 36" *
SOURCE_IMAGE_DATE 1999 9 9 *
SOURCE_IMAGE_ID "NAPP 11552 33" *
SOURCE_IMAGE_DATE 1999 9 9 *
SOURCE_IMAGE_ID "NAPP 11552 32" *
SOURCE_IMAGE_DATE 1999 9 9 *
SOURCE_IMAGE_ID "NAPP 11552 31" *
SOURCE_IMAGE_DATE 1999 9 9 *
SOURCE_IMAGE_ID "NAPP 11559 73" *
SOURCE_IMAGE_DATE 1999 9 27 *
SOURCE_IMAGE_ID "NAPP 11559 74" *
SOURCE_IMAGE_DATE 1999 9 27 *
SOURCE_IMAGE_ID "NAPP 11559 75" *
SOURCE_IMAGE_DATE 1999 9 27 *
SOURCE_DEM_DATE 2003 1 1 *
AGENCY "WESTERN MAPPING CENTER (WMC)" *
PRODUCER "USDA FS GEOSPATIAL SERVICE AND TECHNOLOGY CENTER" *
PRODUCTION_SYSTEM "ORBIT OR_RECTIFY V.5.2" *
STANDARD_VERSION 1996 12 *
METADATA_DATE 2003 3 25 *
DATA_FILE_SIZE 48208472 *
BYTE_COUNT 6296 * * * * * * * * * * * * * * * * * * *
END_USGS_HEADER *
