BEGIN_USGS_DOQ_HEADER *
QUADRANGLE_NAME "LUCKY BOY" *
QUADRANT NW *
WEST_LONGITUDE -118 45 0.000 *
EAST_LONGITUDE -118 41 15.000 *
NORTH_LATITUDE 38 30 0.000 *
SOUTH_LATITUDE 38 26 15.000 *
PRODUCTION_DATE 2003 1 30 *
RASTER_ORDER LEFT_RIGHT/TOP_BOTTOM *
BAND_ORGANIZATION "SINGLE FILE" *
BAND_CONTENT BLACK&WHITE *
BITS_PER_PIXEL 8 *
SAMPLES_AND_LINES 6267 7645 *
HORIZONTAL_DATUM NAD83 *
HORIZONTAL_COORDINATE_SYSTEM UTM *
COORDINATE_ZONE 11 *
HORIZONTAL_UNITS METERS *
HORIZONTAL_RESOLUTION 1.0 *
SECONDARY_HORIZONTAL_DATUM NAD27 *
XY_ORIGIN 346881.620 4263044.435 *
SECONDARY_XY_ORIGIN 346962.522 4262844.636 *
NATION US *
STATE NV *
NW_QUAD_CORNER_XY 347398.327 4262744.435 *
NE_QUAD_CORNER_XY 352848.752 4262642.623 *
SE_QUAD_CORNER_XY 352721.638 4255706.876 *
SW_QUAD_CORNER_XY 347266.502 4255808.637 *
SECONDARY_NW_QUAD_XY 347394.467 4262537.629 *
SECONDARY_NE_QUAD_XY 352845.029 4262435.811 *
SECONDARY_SE_QUAD_XY 352717.918 4255500.207 *
SECONDARY_SW_QUAD_XY 347262.644 4255601.973 *
RMSE_XY 1.39 *
IMAGE_SOURCE "BLACK AND WHITE FILM" *
SOURCE_IMAGE_ID "NAPP 11559 61" *
SOURCE_IMAGE_DATE 1999 9 27 *
SOURCE_IMAGE_ID "NAPP 11559 62" *
SOURCE_IMAGE_DATE 1999 9 27 *
SOURCE_IMAGE_ID "NAPP 11559 60" *
SOURCE_IMAGE_DATE 1999 9 27 *
SOURCE_IMAGE_ID "NAPP 11559 92" *
SOURCE_IMAGE_DATE 1999 9 27 *
SOURCE_IMAGE_ID "NAPP 11559 91" *
SOURCE_IMAGE_DATE 1999 9 27 *
SOURCE_IMAGE_ID "NAPP 11559 90" *
SOURCE_IMAGE_DATE 1999 9 27 *
SOURCE_IMAGE_ID "NAPP 11542 182" *
SOURCE_IMAGE_DATE 1999 9 4 *
SOURCE_IMAGE_ID "NAPP 11542 181" *
SOURCE_IMAGE_DATE 1999 9 4 *
SOURCE_IMAGE_ID "NAPP 11542 180" *
SOURCE_IMAGE_DATE 1999 9 4 *
SOURCE_DEM_DATE 2003 1 1 *
AGENCY "WESTERN MAPPING CENTER (WMC)" *
PRODUCER "USDA FS GEOSPATIAL SERVICE AND TECHNOLOGY CENTER" *
PRODUCTION_SYSTEM "ORBIT OR_RECTIFY V.5.2" *
STANDARD_VERSION 1996 12 *
METADATA_DATE 2003 3 18 *
DATA_FILE_SIZE 47917482 *
BYTE_COUNT 6267 * * * * * * * * * * * * * * * * * * * *
END_USGS_HEADER *
