BEGIN_USGS_DOQ_HEADER *
QUADRANGLE_NAME "LUCKY BOY" *
QUADRANT SE *
WEST_LONGITUDE -118 41 15.000 *
EAST_LONGITUDE -118 37 30.000 *
NORTH_LATITUDE 38 26 15.000 *
SOUTH_LATITUDE 38 22 30.000 *
PRODUCTION_DATE 2003 1 30 *
RASTER_ORDER LEFT_RIGHT/TOP_BOTTOM *
BAND_ORGANIZATION "SINGLE FILE" *
BAND_CONTENT BLACK&WHITE *
BITS_PER_PIXEL 8 *
SAMPLES_AND_LINES 6267 7641 *
HORIZONTAL_DATUM NAD83 *
HORIZONTAL_COORDINATE_SYSTEM UTM *
COORDINATE_ZONE 11 *
HORIZONTAL_UNITS METERS *
HORIZONTAL_RESOLUTION 1.0 *
SECONDARY_HORIZONTAL_DATUM NAD27 *
XY_ORIGIN 352209.861 4256006.876 *
SECONDARY_XY_ORIGIN 352290.859 4255807.188 *
NATION US *
STATE NV *
NW_QUAD_CORNER_XY 352721.638 4255706.876 *
NE_QUAD_CORNER_XY 358176.734 4255608.818 *
SE_QUAD_CORNER_XY 358054.501 4248673.189 *
SW_QUAD_CORNER_XY 352594.700 4248771.196 *
SECONDARY_NW_QUAD_XY 352717.918 4255500.207 *
SECONDARY_NE_QUAD_XY 358173.152 4255402.147 *
SECONDARY_SE_QUAD_XY 358050.922 4248466.662 *
SECONDARY_SW_QUAD_XY 352590.983 4248564.672 *
RMSE_XY 1.39 *
IMAGE_SOURCE "BLACK AND WHITE FILM" *
SOURCE_IMAGE_ID "NAPP 11542 183" *
SOURCE_IMAGE_DATE 1999 9 4 *
SOURCE_IMAGE_ID "NAPP 11559 59" *
SOURCE_IMAGE_DATE 1999 9 27 *
SOURCE_IMAGE_ID "NAPP 11542 182" *
SOURCE_IMAGE_DATE 1999 9 4 *
SOURCE_IMAGE_ID "NAPP 11559 64" *
SOURCE_IMAGE_DATE 1999 9 27 *
SOURCE_IMAGE_ID "NAPP 11559 63" *
SOURCE_IMAGE_DATE 1999 9 27 *
SOURCE_IMAGE_ID "NAPP 11559 62" *
SOURCE_IMAGE_DATE 1999 9 27 *
SOURCE_IMAGE_ID "NAPP 11542 193" *
SOURCE_IMAGE_DATE 1999 9 4 *
SOURCE_IMAGE_ID "NAPP 11542 194" *
SOURCE_IMAGE_DATE 1999 9 4 *
SOURCE_IMAGE_ID "NAPP 11542 195" *
SOURCE_IMAGE_DATE 1999 9 4 *
SOURCE_DEM_DATE 2003 1 1 *
AGENCY "WESTERN MAPPING CENTER (WMC)" *
PRODUCER "USDA FS GEOSPATIAL SERVICE AND TECHNOLOGY CENTER" *
PRODUCTION_SYSTEM "ORBIT OR_RECTIFY V.5.2" *
STANDARD_VERSION 1996 12 *
METADATA_DATE 2003 3 18 *
DATA_FILE_SIZE 47892414 *
BYTE_COUNT 6267 * * * * * * * * * * * * * * * * * * * *
END_USGS_HEADER *
