BEGIN_USGS_DOQ_HEADER *
QUADRANGLE_NAME "COREY PEAK" *
QUADRANT NE *
WEST_LONGITUDE -118 48 45.000 *
EAST_LONGITUDE -118 45 0.000 *
NORTH_LATITUDE 38 30 0.000 *
SOUTH_LATITUDE 38 26 15.000 *
PRODUCTION_DATE 2003 1 30 *
RASTER_ORDER LEFT_RIGHT/TOP_BOTTOM *
BAND_ORGANIZATION "SINGLE FILE" *
BAND_CONTENT BLACK&WHITE *
BITS_PER_PIXEL 8 *
SAMPLES_AND_LINES 6272 7648 *
HORIZONTAL_DATUM NAD83 *
HORIZONTAL_COORDINATE_SYSTEM UTM *
COORDINATE_ZONE 11 *
HORIZONTAL_UNITS METERS *
HORIZONTAL_RESOLUTION 1.0 *
SECONDARY_HORIZONTAL_DATUM NAD27 *
XY_ORIGIN 341426.297 4263149.953 *
SECONDARY_XY_ORIGIN 341507.230 4262950.255 *
NATION US *
STATE NV *
NW_QUAD_CORNER_XY 341947.862 4262849.953 *
NE_QUAD_CORNER_XY 347398.327 4262744.435 *
SE_QUAD_CORNER_XY 347266.502 4255808.637 *
SW_QUAD_CORNER_XY 341811.324 4255914.101 *
SECONDARY_NW_QUAD_XY 341943.863 4262643.149 *
SECONDARY_NE_QUAD_XY 347394.467 4262537.629 *
SECONDARY_SE_QUAD_XY 347262.644 4255601.973 *
SECONDARY_SW_QUAD_XY 341807.328 4255707.440 *
RMSE_XY 1.39 *
IMAGE_SOURCE "BLACK AND WHITE FILM" *
SOURCE_IMAGE_ID "NAPP 11559 91" *
SOURCE_IMAGE_DATE 1999 9 27 *
SOURCE_IMAGE_ID "NAPP 11559 92" *
SOURCE_IMAGE_DATE 1999 9 27 *
SOURCE_IMAGE_ID "NAPP 11559 90" *
SOURCE_IMAGE_DATE 1999 9 27 *
SOURCE_IMAGE_ID "NAPP 11559 79" *
SOURCE_IMAGE_DATE 1999 9 27 *
SOURCE_IMAGE_ID "NAPP 11559 80" *
SOURCE_IMAGE_DATE 1999 9 27 *
SOURCE_IMAGE_ID "NAPP 11559 81" *
SOURCE_IMAGE_DATE 1999 9 27 *
SOURCE_IMAGE_ID "NAPP 11559 62" *
SOURCE_IMAGE_DATE 1999 9 27 *
SOURCE_IMAGE_ID "NAPP 11559 61" *
SOURCE_IMAGE_DATE 1999 9 27 *
SOURCE_IMAGE_ID "NAPP 11559 60" *
SOURCE_IMAGE_DATE 1999 9 27 *
SOURCE_DEM_DATE 2003 1 1 *
AGENCY "WESTERN MAPPING CENTER (WMC)" *
PRODUCER "USDA FS GEOSPATIAL SERVICE AND TECHNOLOGY CENTER" *
PRODUCTION_SYSTEM "ORBIT OR_RECTIFY V.5.2" *
STANDARD_VERSION 1996 12 *
METADATA_DATE 2003 3 18 *
DATA_FILE_SIZE 47974528 *
BYTE_COUNT 6272 * * * * * * * * * * * * * * * * * * * *
END_USGS_HEADER *
