BEGIN_USGS_DOQ_HEADER *
QUADRANGLE_NAME "MITCHELL SPRING" *
QUADRANT SW *
WEST_LONGITUDE -119 0 0.000 *
EAST_LONGITUDE -118 56 15.000 *
NORTH_LATITUDE 38 33 45.000 *
SOUTH_LATITUDE 38 30 0.000 *
PRODUCTION_DATE 2003 1 30 *
RASTER_ORDER LEFT_RIGHT/TOP_BOTTOM *
BAND_ORGANIZATION "SINGLE FILE" *
BAND_CONTENT BLACK&WHITE *
BITS_PER_PIXEL 8 *
SAMPLES_AND_LINES 6282 7660 *
HORIZONTAL_DATUM NAD83 *
HORIZONTAL_COORDINATE_SYSTEM UTM *
COORDINATE_ZONE 11 *
HORIZONTAL_UNITS METERS *
HORIZONTAL_RESOLUTION 1.0 *
SECONDARY_HORIZONTAL_DATUM NAD27 *
XY_ORIGIN 325210.765 4270424.834 *
SECONDARY_XY_ORIGIN 325291.806 4270225.280 *
NATION US *
STATE NV *
NW_QUAD_CORNER_XY 325747.088 4270124.834 *
NE_QUAD_CORNER_XY 331192.966 4270008.138 *
SE_QUAD_CORNER_XY 331046.801 4263072.107 *
SW_QUAD_CORNER_XY 325596.202 4263188.743 *
SECONDARY_NW_QUAD_XY 325742.673 4269917.894 *
SECONDARY_NE_QUAD_XY 331188.688 4269801.197 *
SECONDARY_SE_QUAD_XY 331042.526 4262865.309 *
SECONDARY_SW_QUAD_XY 325591.791 4262981.946 *
RMSE_XY 1.76 *
IMAGE_SOURCE "BLACK AND WHITE FILM" *
SOURCE_IMAGE_ID "NAPP 11528 169" *
SOURCE_IMAGE_DATE 1999 8 29 *
SOURCE_IMAGE_ID "NAPP 11528 168" *
SOURCE_IMAGE_DATE 1999 8 29 *
SOURCE_IMAGE_ID "NAPP 11528 170" *
SOURCE_IMAGE_DATE 1999 8 29 *
SOURCE_IMAGE_ID "NAPP 11528 159" *
SOURCE_IMAGE_DATE 1999 8 29 *
SOURCE_IMAGE_ID "NAPP 11528 158" *
SOURCE_IMAGE_DATE 1999 8 29 *
SOURCE_IMAGE_ID "NAPP 11528 157" *
SOURCE_IMAGE_DATE 1999 8 29 *
SOURCE_IMAGE_ID "NAPP 12407 168" *
SOURCE_IMAGE_DATE 2000 8 19 *
SOURCE_IMAGE_ID "NAPP 12407 167" *
SOURCE_IMAGE_DATE 2000 8 19 *
SOURCE_IMAGE_ID "NAPP 12407 166" *
SOURCE_IMAGE_DATE 2000 8 19 *
SOURCE_DEM_DATE 2003 1 1 *
AGENCY "WESTERN MAPPING CENTER (WMC)" *
PRODUCER "USDA FS GEOSPATIAL SERVICE AND TECHNOLOGY CENTER" *
PRODUCTION_SYSTEM "ORBIT OR_RECTIFY V.5.2" *
STANDARD_VERSION 1996 12 *
METADATA_DATE 2003 3 25 *
DATA_FILE_SIZE 48126402 *
BYTE_COUNT 6282 * * * * * * * * * * * * * * * * * * * *
END_USGS_HEADER *
