BEGIN_USGS_DOQ_HEADER *
QUADRANGLE_NAME "PIUTE MOUNTAIN" 3.45 or 7.5-min. name*
QUADRANT SE quadrant indicator if cell size = 3.75-minutes*
WEST_LONGITUDE -119 33 45.000 signed deg min sec SDDD MM SS.SSS*
EAST_LONGITUDE -119 30 0.000 signed deg min sec SDDD MM SS.SSS*
NORTH_LATITUDE 38 3 45.000 signed deg min sec SDDD MM SS.SSS*
SOUTH_LATITUDE 38 0 0.000 signed deg min sec SDDD MM SS.SSS*
PRODUCTION_DATE 1996 4 25 yyyy mm dd*
RASTER_ORDER LEFT_RIGHT/TOP_BOTTOM video display order*
BAND_ORGANIZATION "SINGLE FILE" single file or BSQ, or BIL or BIP*
BAND_CONTENT BLACK&WHITE black&white or red green blue*
BITS_PER_PIXEL 8 radiometric resolution*
SAMPLES_AND_LINES 6390 7740 number of columns and rows*
HORIZONTAL_DATUM NAD83 primary horizontal datum*
HORIZONTAL_COORDINATE_SYSTEM UTM *
COORDINATE_ZONE 11 coordinate system zone number*
HORIZONTAL_UNITS METERS coordinate system units*
HORIZONTAL_RESOLUTION 1.00 pixel horiz. ground sample distance*
SECONDARY_HORIZONTAL_DATUM NAD27 secondary horizontal datum*
XY_ORIGIN 274590.000 4216170.000 coord. of upper left pixel pri. datum*
SECONDARY_XY_ORIGIN 274672.503 4215970.866 coord upper left pixel sec datum*
NATION US nation code*
STATE CA state fip code*
NW_QUAD_CORNER_XY 275192.274 4215850.075 XY coords. of pri. NW quad corner*
NE_QUAD_CORNER_XY 280676.241 4215700.610 XY coords. of pri. NE quad corner*
SE_QUAD_CORNER_XY 280489.664 4208764.463 XY coords. of pri. SE quad corner*
SW_QUAD_CORNER_XY 275001.024 4208913.847 XY coords. of pri. SW quad corner*
SECONDARY_NW_QUAD_XY 275186.644 4215644.328 XY coords. - sec. NW quad cor.*
SECONDARY_NE_QUAD_XY 280670.749 4215494.859 XY coords. - sec. NE quad cor.*
SECONDARY_SE_QUAD_XY 280484.176 4208558.861 XY coords. - sec. SE quad cor.*
SECONDARY_SW_QUAD_XY 274995.398 4208708.249 XY coords. - sec. SW quad cor.*
RMSE_XY 4.00 doq horiz. accuracy*
IMAGE_SOURCE "BLACK AND WHITE FILM" b&w, cir, natural color, other*
SOURCE_IMAGE_ID "NAPP 6308 049" source image id*
SOURCE_IMAGE_DATE 1993 9 24 source image date as yyyy mm dd*
SOURCE_DEM_DATE 1996 4 25 source dem date yyyy mm dd*
AGENCY "WESTERN MAPPING CENTER (WMC)" oversight agency*
PRODUCER "Analytical Surveys" producer/contractor*
PRODUCTION_SYSTEM "ORBIT OR_RECTIFY V.5.2" production system*
STANDARD_VERSION 1996 12 version of DOQ standard*
METADATA_DATE 1997 7 19 date created or changed, yyyy mm dd*
DATA_FILE_SIZE 49464990 data set size in bytes*
BYTE_COUNT 6390 header byte count* * * * * * * * * * * * * * * * * * * * * * * * * * * * * * * * * * * * *
END_USGS_HEADER *
