BEGIN_USGS_DOQ_HEADER *
QUADRANGLE_NAME "TILTILL MOUNTAIN" *
QUADRANT NE *
WEST_LONGITUDE -119 41 15.000 *
EAST_LONGITUDE -119 37 30.000 *
NORTH_LATITUDE 38 7 30.000 *
SOUTH_LATITUDE 38 3 45.000 *
PRODUCTION_DATE 2000 11 14 *
RASTER_ORDER LEFT_RIGHT/TOP_BOTTOM *
BAND_ORGANIZATION "SINGLE FILE" *
BAND_CONTENT BLACK&WHITE *
BITS_PER_PIXEL 8 *
SAMPLES_AND_LINES 6369 7700 *
HORIZONTAL_DATUM NAD83 *
HORIZONTAL_COORDINATE_SYSTEM UTM *
COORDINATE_ZONE 11 *
HORIZONTAL_UNITS METERS *
HORIZONTAL_RESOLUTION 1.0 *
SECONDARY_HORIZONTAL_DATUM NAD27 *
XY_ORIGIN 263836.014 4223396.552 *
SECONDARY_XY_ORIGIN 263918.661 4223197.324 *
NATION US *
STATE CA *
NW_QUAD_CORNER_XY 264425.022 4223096.552 *
NE_QUAD_CORNER_XY 269904.440 4222939.607 *
SE_QUAD_CORNER_XY 269708.241 4216003.238 *
SW_QUAD_CORNER_XY 264224.143 4216160.098 *
SECONDARY_NW_QUAD_XY 264419.116 4222890.664 *
SECONDARY_NE_QUAD_XY 269898.671 4222733.716 *
SECONDARY_SE_QUAD_XY 269702.477 4215797.494 *
SECONDARY_SW_QUAD_XY 264218.241 4215954.359 *
RMSE_XY 2.41 *
IMAGE_SOURCE "BLACK AND WHITE FILM" *
SOURCE_IMAGE_ID "NAPP 10554 290" *
SOURCE_IMAGE_DATE 1998 8 25 *
SOURCE_IMAGE_ID "NAPP 10554 291" *
SOURCE_IMAGE_DATE 1998 8 25 *
SOURCE_IMAGE_ID "NAPP 10554 289" *
SOURCE_IMAGE_DATE 1998 8 25 *
SOURCE_IMAGE_ID "NAPP 10564 274" *
SOURCE_IMAGE_DATE 1998 9 18 *
SOURCE_IMAGE_ID "NAPP 10564 273" *
SOURCE_IMAGE_DATE 1998 9 18 *
SOURCE_IMAGE_ID "NAPP 10564 272" *
SOURCE_IMAGE_DATE 1998 9 18 *
SOURCE_IMAGE_ID "NAPP 10554 256" *
SOURCE_IMAGE_DATE 1998 8 25 *
SOURCE_DEM_DATE 2000 0 0 *
AGENCY "WESTERN MAPPING CENTER (WMC)" *
PRODUCER "USDA FS GEOSPATIAL SERVICE AND TECHNOLOGY CENTER" *
PRODUCTION_SYSTEM "ORBIT OR_RECTIFY V.5.2" *
STANDARD_VERSION 1996 12 *
METADATA_DATE 2000 11 16 *
DATA_FILE_SIZE 49047669 *
BYTE_COUNT 6369 * * * * * * * * * * * * * * * * * * * * * * * * *
END_USGS_HEADER *
