BEGIN_USGS_DOQ_HEADER *
QUADRANGLE_NAME "KIBBIE LAKE" *
QUADRANT NW *
WEST_LONGITUDE -119 52 30.000 *
EAST_LONGITUDE -119 48 45.000 *
NORTH_LATITUDE 38 7 30.000 *
SOUTH_LATITUDE 38 3 45.000 *
PRODUCTION_DATE 2000 11 13 *
RASTER_ORDER LEFT_RIGHT/TOP_BOTTOM *
BAND_ORGANIZATION "SINGLE FILE" *
BAND_CONTENT BLACK&WHITE *
BITS_PER_PIXEL 8 *
SAMPLES_AND_LINES 6384 7711 *
HORIZONTAL_DATUM NAD83 *
HORIZONTAL_COORDINATE_SYSTEM UTM *
COORDINATE_ZONE 11 *
HORIZONTAL_UNITS METERS *
HORIZONTAL_RESOLUTION 1.0 *
SECONDARY_HORIZONTAL_DATUM NAD27 *
XY_ORIGIN 247382.265 4223889.089 *
SECONDARY_XY_ORIGIN 247465.054 4223689.612 *
NATION US *
STATE CA *
NW_QUAD_CORNER_XY 247986.359 4223589.589 *
NE_QUAD_CORNER_XY 253465.983 4223421.542 *
SE_QUAD_CORNER_XY 253255.741 4216484.914 *
SW_QUAD_CORNER_XY 247771.434 4216652.871 *
SECONDARY_NW_QUAD_XY 247980.040 4223383.713 *
SECONDARY_NE_QUAD_XY 253459.801 4223215.662 *
SECONDARY_SE_QUAD_XY 253249.563 4216279.181 *
SECONDARY_SW_QUAD_XY 247765.119 4216447.142 *
RMSE_XY 2.46 *
IMAGE_SOURCE "BLACK AND WHITE FILM" *
SOURCE_IMAGE_ID "NAPP 10564 25" *
SOURCE_IMAGE_DATE 1998 9 18 *
SOURCE_IMAGE_ID "NAPP 10564 24" *
SOURCE_IMAGE_DATE 1998 9 18 *
SOURCE_IMAGE_ID "NAPP 10554 206" *
SOURCE_IMAGE_DATE 1998 8 25 *
SOURCE_IMAGE_ID "NAPP 10564 3" *
SOURCE_IMAGE_DATE 1998 9 18 *
SOURCE_IMAGE_ID "NAPP 10564 2" *
SOURCE_IMAGE_DATE 1998 9 18 *
SOURCE_IMAGE_ID "NAPP 10554 131" *
SOURCE_IMAGE_DATE 1998 8 25 *
SOURCE_IMAGE_ID "NAPP 10554 203" *
SOURCE_IMAGE_DATE 1998 8 25 *
SOURCE_IMAGE_ID "NAPP 10554 202" *
SOURCE_IMAGE_DATE 1998 8 25 *
SOURCE_IMAGE_ID "NAPP 10554 201" *
SOURCE_IMAGE_DATE 1998 8 25 *
SOURCE_DEM_DATE 2000 0 0 *
AGENCY "WESTERN MAPPING CENTER (WMC)" *
PRODUCER "USDA FS GEOSPATIAL SERVICE AND TECHNOLOGY CENTER" *
PRODUCTION_SYSTEM "ORBIT OR_RECTIFY V.5.2" *
STANDARD_VERSION 1996 12 *
METADATA_DATE 2000 11 16 *
DATA_FILE_SIZE 49233408 *
BYTE_COUNT 6384 * * * * * * * * * * * * * * * * * * * * *
END_USGS_HEADER *
