BEGIN_USGS_DOQ_HEADER *
QUADRANGLE_NAME "BODIE" 3.45 or 7.5-min. name*
QUADRANT NW quadrant indicator if cell size = 3.75-minutes*
WEST_LONGITUDE -119 7 30.000 signed deg min sec SDDD MM SS.SSS*
EAST_LONGITUDE -119 3 45.000 signed deg min sec SDDD MM SS.SSS*
NORTH_LATITUDE 38 15 0.000 signed deg min sec SDDD MM SS.SSS*
SOUTH_LATITUDE 38 11 15.000 signed deg min sec SDDD MM SS.SSS*
PRODUCTION_DATE 1996 5 2 yyyy mm dd*
RASTER_ORDER LEFT_RIGHT/TOP_BOTTOM video display order*
BAND_ORGANIZATION "SINGLE FILE" single file or BSQ, or BIL or BIP*
BAND_CONTENT BLACK&WHITE black&white or red green blue*
BITS_PER_PIXEL 8 radiometric resolution*
SAMPLES_AND_LINES 6330 7680 number of columns and rows*
HORIZONTAL_DATUM NAD83 primary horizontal datum*
HORIZONTAL_COORDINATE_SYSTEM UTM *
COORDINATE_ZONE 11 coordinate system zone number*
HORIZONTAL_UNITS METERS coordinate system units*
HORIZONTAL_RESOLUTION 1.00 pixel horiz. ground sample distance*
SECONDARY_HORIZONTAL_DATUM NAD27 secondary horizontal datum*
XY_ORIGIN 313500.000 4236000.000 coord. of upper left pixel pri. datum*
SECONDARY_XY_ORIGIN 313581.627 4235800.644 coord upper left pixel sec datum*
NATION US nation code*
STATE CA state fip code*
NW_QUAD_CORNER_XY 314055.769 4235688.925 XY coords. of pri. NW quad corner*
NE_QUAD_CORNER_XY 319525.282 4235565.130 XY coords. of pri. NE quad corner*
SE_QUAD_CORNER_XY 319370.751 4228629.302 XY coords. of pri. SE quad corner*
SW_QUAD_CORNER_XY 313896.550 4228753.032 XY coords. of pri. SW quad corner*
SECONDARY_NW_QUAD_XY 314051.091 4235482.711 XY coords. - sec. NW quad cor.*
SECONDARY_NE_QUAD_XY 319520.742 4235358.913 XY coords. - sec. NE quad cor.*
SECONDARY_SE_QUAD_XY 319366.214 4228423.232 XY coords. - sec. SE quad cor.*
SECONDARY_SW_QUAD_XY 313891.875 4228546.964 XY coords. - sec. SW quad cor.*
RMSE_XY 2.70 doq horiz. accuracy*
IMAGE_SOURCE "BLACK AND WHITE FILM" b&w, cir, natural color, other*
SOURCE_IMAGE_ID "NAPP 6317 035" source image id*
SOURCE_IMAGE_DATE 1993 10 2 source image date as yyyy mm dd*
SOURCE_DEM_DATE 1996 5 2 source dem date yyyy mm dd*
AGENCY "WESTERN MAPPING CENTER (WMC)" oversight agency*
PRODUCER "Analytical Surveys" producer/contractor*
PRODUCTION_SYSTEM "ORBIT OR_RECTIFY V.5.2" production system*
STANDARD_VERSION 1996 12 version of DOQ standard*
METADATA_DATE 1997 7 19 date created or changed, yyyy mm dd*
DATA_FILE_SIZE 48620730 data set size in bytes*
BYTE_COUNT 6330 header byte count* * * * * * * * * * * * * * * * * * * * * * * * * * * * * * * * * * * * *
END_USGS_HEADER *
