BEGIN_USGS_DOQ_HEADER *
QUADRANGLE_NAME "BIG ALKALI" *
QUADRANT SE *
WEST_LONGITUDE -119 11 15.000 *
EAST_LONGITUDE -119 7 30.000 *
NORTH_LATITUDE 38 11 15.000 *
SOUTH_LATITUDE 38 7 30.000 *
PRODUCTION_DATE 2003 1 29 *
RASTER_ORDER LEFT_RIGHT/TOP_BOTTOM *
BAND_ORGANIZATION "SINGLE FILE" *
BAND_CONTENT BLACK&WHITE *
BITS_PER_PIXEL 8 *
SAMPLES_AND_LINES 6325 7670 *
HORIZONTAL_DATUM NAD83 *
HORIZONTAL_COORDINATE_SYSTEM UTM *
COORDINATE_ZONE 11 *
HORIZONTAL_UNITS METERS *
HORIZONTAL_RESOLUTION 1.0 *
SECONDARY_HORIZONTAL_DATUM NAD27 *
XY_ORIGIN 307872.012 4229180.459 *
SECONDARY_XY_ORIGIN 307953.741 4228981.200 *
NATION US *
STATE CA *
NW_QUAD_CORNER_XY 308422.295 4228880.459 *
NE_QUAD_CORNER_XY 313896.550 4228753.032 *
SE_QUAD_CORNER_XY 313737.553 4221817.202 *
SW_QUAD_CORNER_XY 308258.616 4221944.562 *
SECONDARY_NW_QUAD_XY 308417.487 4228674.394 *
SECONDARY_NE_QUAD_XY 313891.879 4228546.963 *
SECONDARY_SE_QUAD_XY 313732.885 4221611.282 *
SECONDARY_SW_QUAD_XY 308253.811 4221738.644 *
RMSE_XY 2.10 *
IMAGE_SOURCE "BLACK AND WHITE FILM" *
SOURCE_IMAGE_ID "NAPP 10554 12" *
SOURCE_IMAGE_DATE 1998 8 25 *
SOURCE_IMAGE_ID "NAPP 10554 13" *
SOURCE_IMAGE_DATE 1998 8 25 *
SOURCE_IMAGE_ID "NAPP 10554 11" *
SOURCE_IMAGE_DATE 1998 8 25 *
SOURCE_IMAGE_ID "NAPP 10565 120" *
SOURCE_IMAGE_DATE 1998 9 19 *
SOURCE_IMAGE_ID "NAPP 10565 119" *
SOURCE_IMAGE_DATE 1998 9 19 *
SOURCE_IMAGE_ID "NAPP 10565 118" *
SOURCE_IMAGE_DATE 1998 9 19 *
SOURCE_IMAGE_ID "NAPP 10556 164" *
SOURCE_IMAGE_DATE 1998 8 26 *
SOURCE_IMAGE_ID "NAPP 10556 165" *
SOURCE_IMAGE_DATE 1998 8 26 *
SOURCE_IMAGE_ID "NAPP 10556 166" *
SOURCE_IMAGE_DATE 1998 8 26 *
SOURCE_DEM_DATE 2003 1 1 *
AGENCY "WESTERN MAPPING CENTER (WMC)" *
PRODUCER "USDA FS GEOSPATIAL SERVICE AND TECHNOLOGY CENTER" *
PRODUCTION_SYSTEM "ORBIT OR_RECTIFY V.5.2" *
STANDARD_VERSION 1996 12 *
METADATA_DATE 2003 3 25 *
DATA_FILE_SIZE 48519075 *
BYTE_COUNT 6325 * * * * * * * * * * * * * * * * * * * * *
END_USGS_HEADER *
